BEGIN:VCALENDAR
VERSION:2.0
PRODID:-//Architektur: Sehen lernen! - ECPv6.15.13//NONSGML v1.0//EN
CALSCALE:GREGORIAN
METHOD:PUBLISH
X-ORIGINAL-URL:https://www.architektur-sehenlernen.de
X-WR-CALDESC:Veranstaltungen für Architektur: Sehen lernen!
REFRESH-INTERVAL;VALUE=DURATION:PT1H
X-Robots-Tag:noindex
X-PUBLISHED-TTL:PT1H
BEGIN:VTIMEZONE
TZID:Europe/Berlin
BEGIN:DAYLIGHT
TZOFFSETFROM:+0100
TZOFFSETTO:+0200
TZNAME:CEST
DTSTART:20240331T010000
END:DAYLIGHT
BEGIN:STANDARD
TZOFFSETFROM:+0200
TZOFFSETTO:+0100
TZNAME:CET
DTSTART:20241027T010000
END:STANDARD
BEGIN:DAYLIGHT
TZOFFSETFROM:+0100
TZOFFSETTO:+0200
TZNAME:CEST
DTSTART:20250330T010000
END:DAYLIGHT
BEGIN:STANDARD
TZOFFSETFROM:+0200
TZOFFSETTO:+0100
TZNAME:CET
DTSTART:20251026T010000
END:STANDARD
BEGIN:DAYLIGHT
TZOFFSETFROM:+0100
TZOFFSETTO:+0200
TZNAME:CEST
DTSTART:20260329T010000
END:DAYLIGHT
BEGIN:STANDARD
TZOFFSETFROM:+0200
TZOFFSETTO:+0100
TZNAME:CET
DTSTART:20261025T010000
END:STANDARD
END:VTIMEZONE
BEGIN:VEVENT
DTSTART;TZID=Europe/Berlin:20250312T080000
DTEND;TZID=Europe/Berlin:20250312T170000
DTSTAMP:20260421T173647
CREATED:20250312T200623Z
LAST-MODIFIED:20250312T200623Z
UID:268-1741766400-1741798800@www.architektur-sehenlernen.de
SUMMARY:Budapest: Kulturmetropole mit Stil
DESCRIPTION:1867 wird Budapest Hauptstadt des ungarischen Teils von Österreich-Ungarn und entwickelt sich rasant: Ein Opernhaus nach Wiener Vorbild\, die erste U-Bahn auf dem europäischen Kontinent und farbenfrohe Jugendstilbauten entstehen. Neben Fischerbastei und Matthiaskirche\, Kettenbrücke und der Großen Markthalle bietet Budapest prächtige Thermalbäder\, die zur Entspannung einladen. Das Städteporträt stellt die berühmten Bauten vor. Das Traditions-Kaffeehaus „Café Gerbeaud“ und das „Restaurant Muzeum“ mit typisch ungarischer Küche dürfen nicht fehlen. \n\n\n\n\n\n\nGebühr: 8\,00 €\nMVHS-Card: Auch mit MVHS-Card
URL:https://www.architektur-sehenlernen.de/termine/budapest-kulturmetropole-mit-stil/
LOCATION:MVHS in Ramersdorf\, Claudius-Keller-Str. 7\, Ramersdorf\, 81669
CATEGORIES:Termine,Vorträge
ORGANIZER;CN="M%C3%BCnchner Volkshochschule":MAILTO:info@mvhs.de
END:VEVENT
END:VCALENDAR