BEGIN:VCALENDAR
VERSION:2.0
PRODID:-//Architektur: Sehen lernen! - ECPv6.15.13//NONSGML v1.0//EN
CALSCALE:GREGORIAN
METHOD:PUBLISH
X-WR-CALNAME:Architektur: Sehen lernen!
X-ORIGINAL-URL:https://www.architektur-sehenlernen.de
X-WR-CALDESC:Veranstaltungen für Architektur: Sehen lernen!
REFRESH-INTERVAL;VALUE=DURATION:PT1H
X-Robots-Tag:noindex
X-PUBLISHED-TTL:PT1H
BEGIN:VTIMEZONE
TZID:Europe/Berlin
BEGIN:DAYLIGHT
TZOFFSETFROM:+0100
TZOFFSETTO:+0200
TZNAME:CEST
DTSTART:20240331T010000
END:DAYLIGHT
BEGIN:STANDARD
TZOFFSETFROM:+0200
TZOFFSETTO:+0100
TZNAME:CET
DTSTART:20241027T010000
END:STANDARD
BEGIN:DAYLIGHT
TZOFFSETFROM:+0100
TZOFFSETTO:+0200
TZNAME:CEST
DTSTART:20250330T010000
END:DAYLIGHT
BEGIN:STANDARD
TZOFFSETFROM:+0200
TZOFFSETTO:+0100
TZNAME:CET
DTSTART:20251026T010000
END:STANDARD
BEGIN:DAYLIGHT
TZOFFSETFROM:+0100
TZOFFSETTO:+0200
TZNAME:CEST
DTSTART:20260329T010000
END:DAYLIGHT
BEGIN:STANDARD
TZOFFSETFROM:+0200
TZOFFSETTO:+0100
TZNAME:CET
DTSTART:20261025T010000
END:STANDARD
END:VTIMEZONE
BEGIN:VEVENT
DTSTART;TZID=Europe/Berlin:20250324T190000
DTEND;TZID=Europe/Berlin:20250324T203000
DTSTAMP:20260421T173332
CREATED:20250312T194829Z
LAST-MODIFIED:20250312T194829Z
UID:246-1742842800-1742848200@www.architektur-sehenlernen.de
SUMMARY:Prag Die „Goldene Stadt“
DESCRIPTION:Digitaler Vortrag. In Prag verbinden sich Kunst\, Kultur und Architektur zu einem einzigartigen Erlebnis. Seit 1992 gehört die Stadt an der Moldau zum Weltkulturerbe. Vom Mittelalter über Renaissance und Barock bis zum Historismus: Prag kann in allen Stilepochen Meisterwerke bieten. Ein besonderer Blickpunkt ist der Jugendstil\, die Stadt entwickelte sich um 1900 zu einem der wichtigsten Zentren Europas. Für das 20./21. Jahrhundert finden wir Bauten des „Prager Kubismus“\, von dem es nur wenige Beispiele gibt\, der Moderne und des Dekonstruktivismus. Der Vortrag findet nur online statt. Die Zugangsdaten erhalten Sie nach Anmeldung. \n\n\n\nKursnr.\nB1728K-WEB\n\n\n\n\n\n\nGebühr:\n8\,00 €
URL:https://www.architektur-sehenlernen.de/termine/prag-die-goldene-stadt/
LOCATION:Online\, Online
CATEGORIES:Online Vorträge,Termine
END:VEVENT
END:VCALENDAR