BEGIN:VCALENDAR
VERSION:2.0
PRODID:-//Architektur: Sehen lernen! - ECPv6.15.13//NONSGML v1.0//EN
CALSCALE:GREGORIAN
METHOD:PUBLISH
X-ORIGINAL-URL:https://www.architektur-sehenlernen.de
X-WR-CALDESC:Veranstaltungen für Architektur: Sehen lernen!
REFRESH-INTERVAL;VALUE=DURATION:PT1H
X-Robots-Tag:noindex
X-PUBLISHED-TTL:PT1H
BEGIN:VTIMEZONE
TZID:Europe/Berlin
BEGIN:DAYLIGHT
TZOFFSETFROM:+0100
TZOFFSETTO:+0200
TZNAME:CEST
DTSTART:20240331T010000
END:DAYLIGHT
BEGIN:STANDARD
TZOFFSETFROM:+0200
TZOFFSETTO:+0100
TZNAME:CET
DTSTART:20241027T010000
END:STANDARD
BEGIN:DAYLIGHT
TZOFFSETFROM:+0100
TZOFFSETTO:+0200
TZNAME:CEST
DTSTART:20250330T010000
END:DAYLIGHT
BEGIN:STANDARD
TZOFFSETFROM:+0200
TZOFFSETTO:+0100
TZNAME:CET
DTSTART:20251026T010000
END:STANDARD
BEGIN:DAYLIGHT
TZOFFSETFROM:+0100
TZOFFSETTO:+0200
TZNAME:CEST
DTSTART:20260329T010000
END:DAYLIGHT
BEGIN:STANDARD
TZOFFSETFROM:+0200
TZOFFSETTO:+0100
TZNAME:CET
DTSTART:20261025T010000
END:STANDARD
END:VTIMEZONE
BEGIN:VEVENT
DTSTART;TZID=Europe/Berlin:20250327T180000
DTEND;TZID=Europe/Berlin:20250327T193000
DTSTAMP:20260421T172715
CREATED:20250312T195729Z
LAST-MODIFIED:20250312T195729Z
UID:254-1743098400-1743103800@www.architektur-sehenlernen.de
SUMMARY:Wien - von der Ringstraße zum Hundertwasserhaus
DESCRIPTION:Prachtvolle Monumentalbauten des Historismus\, wie das Kunsthistorische Museum oder das Burgtheater\, bestimmen die Ringstraße. Sie ist ein internationales Bauprojekt des 19. Jahrhunderts. Die Wiener Secession zeigte den Weg in das 20. Jahrhundert und die frühe Moderne. Der Vortrag der Architekturhistorikerin Dr. Kaija Voss stellt herausragende Bauten vor. Otto Wagner\, Josef Maria Olbrich oder Adolf Loos haben Wien ebenso geprägt wie Friedensreich Hundertwasser\, Hans Hollein oder COOP Himmelb(l)au. \n  \nGebühr: 8\,00 €
URL:https://www.architektur-sehenlernen.de/termine/wien-von-der-ringstrasse-zum-hundertwasserhaus/
LOCATION:MVHS in Ramersdorf\, Claudius-Keller-Str. 7\, Ramersdorf\, 81669
CATEGORIES:Termine,Vorträge
ORGANIZER;CN="M%C3%BCnchner Volkshochschule":MAILTO:info@mvhs.de
END:VEVENT
END:VCALENDAR