BEGIN:VCALENDAR
VERSION:2.0
PRODID:-//Architektur: Sehen lernen! - ECPv6.15.13//NONSGML v1.0//EN
CALSCALE:GREGORIAN
METHOD:PUBLISH
X-ORIGINAL-URL:https://www.architektur-sehenlernen.de
X-WR-CALDESC:Veranstaltungen für Architektur: Sehen lernen!
REFRESH-INTERVAL;VALUE=DURATION:PT1H
X-Robots-Tag:noindex
X-PUBLISHED-TTL:PT1H
BEGIN:VTIMEZONE
TZID:Europe/Berlin
BEGIN:DAYLIGHT
TZOFFSETFROM:+0100
TZOFFSETTO:+0200
TZNAME:CEST
DTSTART:20240331T010000
END:DAYLIGHT
BEGIN:STANDARD
TZOFFSETFROM:+0200
TZOFFSETTO:+0100
TZNAME:CET
DTSTART:20241027T010000
END:STANDARD
BEGIN:DAYLIGHT
TZOFFSETFROM:+0100
TZOFFSETTO:+0200
TZNAME:CEST
DTSTART:20250330T010000
END:DAYLIGHT
BEGIN:STANDARD
TZOFFSETFROM:+0200
TZOFFSETTO:+0100
TZNAME:CET
DTSTART:20251026T010000
END:STANDARD
BEGIN:DAYLIGHT
TZOFFSETFROM:+0100
TZOFFSETTO:+0200
TZNAME:CEST
DTSTART:20260329T010000
END:DAYLIGHT
BEGIN:STANDARD
TZOFFSETFROM:+0200
TZOFFSETTO:+0100
TZNAME:CET
DTSTART:20261025T010000
END:STANDARD
END:VTIMEZONE
BEGIN:VEVENT
DTSTART;TZID=Europe/Berlin:20250331T180000
DTEND;TZID=Europe/Berlin:20250331T193000
DTSTAMP:20260421T155936
CREATED:20250312T200002Z
LAST-MODIFIED:20250312T200042Z
UID:257-1743444000-1743449400@www.architektur-sehenlernen.de
SUMMARY:Essen\, Duisburg\, Hagen – Architektur und Kunst im Ruhrgebiet
DESCRIPTION:Der Vortrag führt durch das Ruhrgebiet\, das in den letzten Jahrzehnten einen umfassenden Wandel von einer Bergbau- und Industrieregion zur Kulturregion erlebte. Die Gartenstadt Essen-Margarethenhöhe und die Villa Hügel sind altehrwürdige Zeugnisse der Industrialisierung. Daneben sehen Sie moderne Kulturorte wie den Gasometer in Oberhausen oder die Zeche Zollverein mit Ruhrmuseum in Essen. In Hagen geht es in die Villa Hohenhof von Henry van de Velde. Die Referentin leitet die gleichnamige Studienreise (25. bis 29. Juni 2025\, U185090). \n  \nGebühr: 8\,00 € \nMVHS-Card: Auch mit MVHS-Card
URL:https://www.architektur-sehenlernen.de/termine/essen-duisburg-hagen-architektur-und-kunst-im-ruhrgebiet-2/
LOCATION:Bildungszentrum\, Einsteinstr. 28\, München
CATEGORIES:Termine,Vorträge
ORGANIZER;CN="M%C3%BCnchner Volkshochschule":MAILTO:info@mvhs.de
END:VEVENT
END:VCALENDAR