BEGIN:VCALENDAR
VERSION:2.0
PRODID:-//Architektur: Sehen lernen! - ECPv6.15.13//NONSGML v1.0//EN
CALSCALE:GREGORIAN
METHOD:PUBLISH
X-ORIGINAL-URL:https://www.architektur-sehenlernen.de
X-WR-CALDESC:Veranstaltungen für Architektur: Sehen lernen!
REFRESH-INTERVAL;VALUE=DURATION:PT1H
X-Robots-Tag:noindex
X-PUBLISHED-TTL:PT1H
BEGIN:VTIMEZONE
TZID:Europe/Berlin
BEGIN:DAYLIGHT
TZOFFSETFROM:+0100
TZOFFSETTO:+0200
TZNAME:CEST
DTSTART:20240331T010000
END:DAYLIGHT
BEGIN:STANDARD
TZOFFSETFROM:+0200
TZOFFSETTO:+0100
TZNAME:CET
DTSTART:20241027T010000
END:STANDARD
BEGIN:DAYLIGHT
TZOFFSETFROM:+0100
TZOFFSETTO:+0200
TZNAME:CEST
DTSTART:20250330T010000
END:DAYLIGHT
BEGIN:STANDARD
TZOFFSETFROM:+0200
TZOFFSETTO:+0100
TZNAME:CET
DTSTART:20251026T010000
END:STANDARD
BEGIN:DAYLIGHT
TZOFFSETFROM:+0100
TZOFFSETTO:+0200
TZNAME:CEST
DTSTART:20260329T010000
END:DAYLIGHT
BEGIN:STANDARD
TZOFFSETFROM:+0200
TZOFFSETTO:+0100
TZNAME:CET
DTSTART:20261025T010000
END:STANDARD
END:VTIMEZONE
BEGIN:VEVENT
DTSTART;TZID=Europe/Berlin:20251117T200000
DTEND;TZID=Europe/Berlin:20251117T213000
DTSTAMP:20260421T042240
CREATED:20251022T143425Z
LAST-MODIFIED:20251022T143425Z
UID:1198-1763409600-1763415000@www.architektur-sehenlernen.de
SUMMARY:Berlin mit Bernau – auf den Spuren der architektonischen Moderne
DESCRIPTION:Der Vortrag zeigt das Berlin des 20. Jahrhunderts: die UNESCO-Welterbe-Siedlungen der Klassischen Moderne\, Nachkriegsmoderne im Hansa-Viertel und neoklassizistische Architektur im Ostteil der Stadt. Zur Sprache kommen auch aktuelle Bauten wie das Futurium\, die James-Simon-Galerie und das Humboldtforum. Exkursionen führen zu den einstigen Beelitzer Heilstätten\, einem „Lost Place“ bei Berlin\, und zum Bauhaus Denkmal Bundesgewerkschaftsschule Bernau von Hannes Meyer. Die Referentin leitet die gleichnamige Studienreise (11. bis 14. Juni 2026\, V185160). \n  \nGebühr: 9\,00 €
URL:https://www.architektur-sehenlernen.de/termine/berlin-mit-bernau-auf-den-spuren-der-architektonischen-moderne-3/
LOCATION:Bildungszentrum\, Einsteinstr. 28\, München
CATEGORIES:Termine,Vorträge
ORGANIZER;CN="M%C3%BCnchner Volkshochschule":MAILTO:info@mvhs.de
END:VEVENT
END:VCALENDAR