BEGIN:VCALENDAR
VERSION:2.0
PRODID:-//Architektur: Sehen lernen! - ECPv6.15.13//NONSGML v1.0//EN
CALSCALE:GREGORIAN
METHOD:PUBLISH
X-WR-CALNAME:Architektur: Sehen lernen!
X-ORIGINAL-URL:https://www.architektur-sehenlernen.de
X-WR-CALDESC:Veranstaltungen für Architektur: Sehen lernen!
REFRESH-INTERVAL;VALUE=DURATION:PT1H
X-Robots-Tag:noindex
X-PUBLISHED-TTL:PT1H
BEGIN:VTIMEZONE
TZID:Europe/Berlin
BEGIN:DAYLIGHT
TZOFFSETFROM:+0100
TZOFFSETTO:+0200
TZNAME:CEST
DTSTART:20240331T010000
END:DAYLIGHT
BEGIN:STANDARD
TZOFFSETFROM:+0200
TZOFFSETTO:+0100
TZNAME:CET
DTSTART:20241027T010000
END:STANDARD
BEGIN:DAYLIGHT
TZOFFSETFROM:+0100
TZOFFSETTO:+0200
TZNAME:CEST
DTSTART:20250330T010000
END:DAYLIGHT
BEGIN:STANDARD
TZOFFSETFROM:+0200
TZOFFSETTO:+0100
TZNAME:CET
DTSTART:20251026T010000
END:STANDARD
BEGIN:DAYLIGHT
TZOFFSETFROM:+0100
TZOFFSETTO:+0200
TZNAME:CEST
DTSTART:20260329T010000
END:DAYLIGHT
BEGIN:STANDARD
TZOFFSETFROM:+0200
TZOFFSETTO:+0100
TZNAME:CET
DTSTART:20261025T010000
END:STANDARD
END:VTIMEZONE
BEGIN:VEVENT
DTSTART;TZID=Europe/Berlin:20251127T190000
DTEND;TZID=Europe/Berlin:20251127T203000
DTSTAMP:20260421T042150
CREATED:20250910T200842Z
LAST-MODIFIED:20250910T201317Z
UID:1148-1764270000-1764275400@www.architektur-sehenlernen.de
SUMMARY:Vier Elemente: Wasser - Nymphäen\, Brunnen\, Wasserspiele\, Badekultur
DESCRIPTION:Der europäische Ursprung der Wasserarchitektur liegt in der Antike: in Quell- und Brunnenhäusern\, repräsentativen städtischen Bauwerken mit Wasserbecken\, Bädern und Thermen\, mehrgeschossigen Säulenfassaden an der Mündung von künstlichen Wasserleitungen und im Nymphäum – dem Heiligtum der Nymphen. Künstliche Kaskaden kamen in der Renaissance in Mode\, barocke Wasserspiele gehörten zur prächtigen Festkultur. Künstler*innen wie Niki de Saint Phalle und Ólafur Elíasson konfrontierten die moderne und zeitgenössische Kunst mit dem Element Wasser. \n  \nGebühr: 9\,00 €
URL:https://www.architektur-sehenlernen.de/termine/vier-elemente-wasser-nymphaeen-brunnen-wasserspiele-badekultur/
CATEGORIES:Online Vorträge,Termine
ORGANIZER;CN="M%C3%BCnchner Volkshochschule":MAILTO:info@mvhs.de
END:VEVENT
END:VCALENDAR