BEGIN:VCALENDAR
VERSION:2.0
PRODID:-//Architektur: Sehen lernen! - ECPv6.15.13//NONSGML v1.0//EN
CALSCALE:GREGORIAN
METHOD:PUBLISH
X-WR-CALNAME:Architektur: Sehen lernen!
X-ORIGINAL-URL:https://www.architektur-sehenlernen.de
X-WR-CALDESC:Veranstaltungen für Architektur: Sehen lernen!
REFRESH-INTERVAL;VALUE=DURATION:PT1H
X-Robots-Tag:noindex
X-PUBLISHED-TTL:PT1H
BEGIN:VTIMEZONE
TZID:Europe/Berlin
BEGIN:DAYLIGHT
TZOFFSETFROM:+0100
TZOFFSETTO:+0200
TZNAME:CEST
DTSTART:20250330T010000
END:DAYLIGHT
BEGIN:STANDARD
TZOFFSETFROM:+0200
TZOFFSETTO:+0100
TZNAME:CET
DTSTART:20251026T010000
END:STANDARD
BEGIN:DAYLIGHT
TZOFFSETFROM:+0100
TZOFFSETTO:+0200
TZNAME:CEST
DTSTART:20260329T010000
END:DAYLIGHT
BEGIN:STANDARD
TZOFFSETFROM:+0200
TZOFFSETTO:+0100
TZNAME:CET
DTSTART:20261025T010000
END:STANDARD
BEGIN:DAYLIGHT
TZOFFSETFROM:+0100
TZOFFSETTO:+0200
TZNAME:CEST
DTSTART:20270328T010000
END:DAYLIGHT
BEGIN:STANDARD
TZOFFSETFROM:+0200
TZOFFSETTO:+0100
TZNAME:CET
DTSTART:20271031T010000
END:STANDARD
END:VTIMEZONE
BEGIN:VEVENT
DTSTART;TZID=Europe/Berlin:20260210T190000
DTEND;TZID=Europe/Berlin:20260210T203000
DTSTAMP:20260420T231619
CREATED:20250910T202244Z
LAST-MODIFIED:20250910T202244Z
UID:1162-1770750000-1770755400@www.architektur-sehenlernen.de
SUMMARY:Andalusien – Sevilla\, Cordoba\, Granada
DESCRIPTION:Dr. Kaija Voss lädt Sie zu einem Ausflug in die drei andalusischen Städte Sevilla\, Cordoba und Granada ein. Sie erläutert die Spuren der einst prägenden maurischen Einflüsse\, zum Beispiel bei der Mezquita-Catedral von Cordoba\, dem Alkazar von Peter I. in Sevilla oder der Alhambra von Granada. In Sevilla erleben Sie zudem die Bauten der Ibero-Amerikanischen Ausstellung von 1929 und den imposanten Metropol-Parasol des deutschen Architekten Jürgen Mayer H. \nGebühr: 9\,00 €
URL:https://www.architektur-sehenlernen.de/termine/andalusien-sevilla-cordoba-granada/
CATEGORIES:Online Vorträge,Termine
ORGANIZER;CN="M%C3%BCnchner Volkshochschule":MAILTO:info@mvhs.de
END:VEVENT
END:VCALENDAR