BEGIN:VCALENDAR
VERSION:2.0
PRODID:-//Architektur: Sehen lernen! - ECPv6.15.13//NONSGML v1.0//EN
CALSCALE:GREGORIAN
METHOD:PUBLISH
X-ORIGINAL-URL:https://www.architektur-sehenlernen.de
X-WR-CALDESC:Veranstaltungen für Architektur: Sehen lernen!
REFRESH-INTERVAL;VALUE=DURATION:PT1H
X-Robots-Tag:noindex
X-PUBLISHED-TTL:PT1H
BEGIN:VTIMEZONE
TZID:Europe/Berlin
BEGIN:DAYLIGHT
TZOFFSETFROM:+0100
TZOFFSETTO:+0200
TZNAME:CEST
DTSTART:20250330T010000
END:DAYLIGHT
BEGIN:STANDARD
TZOFFSETFROM:+0200
TZOFFSETTO:+0100
TZNAME:CET
DTSTART:20251026T010000
END:STANDARD
BEGIN:DAYLIGHT
TZOFFSETFROM:+0100
TZOFFSETTO:+0200
TZNAME:CEST
DTSTART:20260329T010000
END:DAYLIGHT
BEGIN:STANDARD
TZOFFSETFROM:+0200
TZOFFSETTO:+0100
TZNAME:CET
DTSTART:20261025T010000
END:STANDARD
BEGIN:DAYLIGHT
TZOFFSETFROM:+0100
TZOFFSETTO:+0200
TZNAME:CEST
DTSTART:20270328T010000
END:DAYLIGHT
BEGIN:STANDARD
TZOFFSETFROM:+0200
TZOFFSETTO:+0100
TZNAME:CET
DTSTART:20271031T010000
END:STANDARD
END:VTIMEZONE
BEGIN:VEVENT
DTSTART;TZID=Europe/Berlin:20260303T190000
DTEND;TZID=Europe/Berlin:20260303T203000
DTSTAMP:20260420T212652
CREATED:20260205T200644Z
LAST-MODIFIED:20260205T200644Z
UID:1280-1772564400-1772569800@www.architektur-sehenlernen.de
SUMMARY:Architektur im Einklang mit der Natur Elemente der Architektur: Erde
DESCRIPTION:Wie steht Architektur im Einklang mit unserem Planeten Erde? Wie kann Bauen im Einklang mit der Natur gelingen? Dazu hilft ein Blick in Geschichte und Gegenwart: die Bauwerke von Antoni Gaudí\, Frank Lloyd Wright und Friedensreich Hundertwasser\, das Münchner Olympiastadion von Günther Behnisch und Frei Otto\, die Werke des indischen Architekten Balkrishna Doshi oder die begrünten Hochhäuser des Mailänder Architekten Stefano Boeri – sie alle versuchen auf ganz unterschiedliche Weise\, diese Fragen zu beantworten. \n\n\n\n\n\nGebühr: 9\,00 €\n\n\n\n\nOrt: Online\n\n\nVeranstaltungstyp: Online-Vortrag\nMVHS-Card: Auch mit MVHS-Card\nInfo & Beratung:\n\nFachliche Beratung: (089) 48006-6725\nFragen zur Buchung: (089) 48006-0
URL:https://www.architektur-sehenlernen.de/termine/architektur-im-einklang-mit-der-natur-elemente-der-architektur-erde/
CATEGORIES:Online Vorträge,Termine
ORGANIZER;CN="M%C3%BCnchner Volkshochschule":MAILTO:info@mvhs.de
END:VEVENT
END:VCALENDAR