BEGIN:VCALENDAR
VERSION:2.0
PRODID:-//Architektur: Sehen lernen! - ECPv6.15.13//NONSGML v1.0//EN
CALSCALE:GREGORIAN
METHOD:PUBLISH
X-ORIGINAL-URL:https://www.architektur-sehenlernen.de
X-WR-CALDESC:Veranstaltungen für Architektur: Sehen lernen!
REFRESH-INTERVAL;VALUE=DURATION:PT1H
X-Robots-Tag:noindex
X-PUBLISHED-TTL:PT1H
BEGIN:VTIMEZONE
TZID:Europe/Berlin
BEGIN:DAYLIGHT
TZOFFSETFROM:+0100
TZOFFSETTO:+0200
TZNAME:CEST
DTSTART:20250330T010000
END:DAYLIGHT
BEGIN:STANDARD
TZOFFSETFROM:+0200
TZOFFSETTO:+0100
TZNAME:CET
DTSTART:20251026T010000
END:STANDARD
BEGIN:DAYLIGHT
TZOFFSETFROM:+0100
TZOFFSETTO:+0200
TZNAME:CEST
DTSTART:20260329T010000
END:DAYLIGHT
BEGIN:STANDARD
TZOFFSETFROM:+0200
TZOFFSETTO:+0100
TZNAME:CET
DTSTART:20261025T010000
END:STANDARD
BEGIN:DAYLIGHT
TZOFFSETFROM:+0100
TZOFFSETTO:+0200
TZNAME:CEST
DTSTART:20270328T010000
END:DAYLIGHT
BEGIN:STANDARD
TZOFFSETFROM:+0200
TZOFFSETTO:+0100
TZNAME:CET
DTSTART:20271031T010000
END:STANDARD
END:VTIMEZONE
BEGIN:VEVENT
DTSTART;TZID=Europe/Berlin:20260921T180000
DTEND;TZID=Europe/Berlin:20260921T193000
DTSTAMP:20260421T042258
CREATED:20260205T153429Z
LAST-MODIFIED:20260205T153429Z
UID:1300-1790013600-1790019000@www.architektur-sehenlernen.de
SUMMARY:Chicago – Kulturmetropole am Lake Michigan
DESCRIPTION:Das lebendige und kulturaffine Chicago ist jede Reise wert. Großartige Architektur und namhafte Architekt*innen sind das Markenzeichen der Stadt am Lake Michigan. Auf die Chicagoer Schule und die ersten Wolkenkratzer nach dem Großen Brand von 1871 folgen Bauten von Frank Lloyd Wright und Ludwig Mies van der Rohe. Vom Riverwalk mit seinen bekannten Marina-City-Türmen geht es über den Millennium Parc mit Jay-Pritzker-Pavillon von Frank O. Gehry und „The Bean“ von Anish Kapoor bis zum Art Institute of Chicago. \nGebühr: 9\,00 €
URL:https://www.architektur-sehenlernen.de/termine/chicago-kulturmetropole-am-lake-michigan/
LOCATION:Bildungszentrum\, Einsteinstr. 28\, München
CATEGORIES:Termine,Vorträge
ORGANIZER;CN="M%C3%BCnchner Volkshochschule":MAILTO:info@mvhs.de
END:VEVENT
END:VCALENDAR