BEGIN:VCALENDAR
VERSION:2.0
PRODID:-//Architektur: Sehen lernen! - ECPv6.15.13//NONSGML v1.0//EN
CALSCALE:GREGORIAN
METHOD:PUBLISH
X-WR-CALNAME:Architektur: Sehen lernen!
X-ORIGINAL-URL:https://www.architektur-sehenlernen.de
X-WR-CALDESC:Veranstaltungen für Architektur: Sehen lernen!
REFRESH-INTERVAL;VALUE=DURATION:PT1H
X-Robots-Tag:noindex
X-PUBLISHED-TTL:PT1H
BEGIN:VTIMEZONE
TZID:Europe/Berlin
BEGIN:DAYLIGHT
TZOFFSETFROM:+0100
TZOFFSETTO:+0200
TZNAME:CEST
DTSTART:20250330T010000
END:DAYLIGHT
BEGIN:STANDARD
TZOFFSETFROM:+0200
TZOFFSETTO:+0100
TZNAME:CET
DTSTART:20251026T010000
END:STANDARD
BEGIN:DAYLIGHT
TZOFFSETFROM:+0100
TZOFFSETTO:+0200
TZNAME:CEST
DTSTART:20260329T010000
END:DAYLIGHT
BEGIN:STANDARD
TZOFFSETFROM:+0200
TZOFFSETTO:+0100
TZNAME:CET
DTSTART:20261025T010000
END:STANDARD
BEGIN:DAYLIGHT
TZOFFSETFROM:+0100
TZOFFSETTO:+0200
TZNAME:CEST
DTSTART:20270328T010000
END:DAYLIGHT
BEGIN:STANDARD
TZOFFSETFROM:+0200
TZOFFSETTO:+0100
TZNAME:CET
DTSTART:20271031T010000
END:STANDARD
END:VTIMEZONE
BEGIN:VEVENT
DTSTART;TZID=Europe/Berlin:20260420T180000
DTEND;TZID=Europe/Berlin:20260420T193000
DTSTAMP:20260420T135644
CREATED:20260205T152148Z
LAST-MODIFIED:20260205T152148Z
UID:1283-1776708000-1776713400@www.architektur-sehenlernen.de
SUMMARY:Brüssel – vom Grand Place zum Atomium
DESCRIPTION:Brüssel ist die Hauptstadt des Königreichs Belgien und Hauptsitz der Europäischen Union. Bekanntes Wahrzeichen ist der Grand Place. Der zentrale Markt mit gotischem Rathaus zählt zu den schönsten Plätzen Europas. Weitere architektonische Entdeckungen sind der gewaltige historistische Justizpalast\, das Palais Stoclet des Wiener Architekten Josef Hoffmann\, die Art Noveau-Bauten von Victor Horta\, zahlreiche Zeugnisse des Art déco und schließlich das Atomium – Höhepunkt der Weltausstellung von 1958. \nGebühr: 9\,00 €
URL:https://www.architektur-sehenlernen.de/termine/bruessel-vom-grand-place-zum-atomium/
LOCATION:Bildungszentrum\, Einsteinstr. 28\, München
CATEGORIES:Termine,Vorträge
ORGANIZER;CN="M%C3%BCnchner Volkshochschule":MAILTO:info@mvhs.de
END:VEVENT
BEGIN:VEVENT
DTSTART;TZID=Europe/Berlin:20260421T190000
DTEND;TZID=Europe/Berlin:20260421T203000
DTSTAMP:20260420T135644
CREATED:20260205T201544Z
LAST-MODIFIED:20260205T201544Z
UID:1309-1776798000-1776803400@www.architektur-sehenlernen.de
SUMMARY:Paris - die Stadt der Liebe und der Kunst
DESCRIPTION:Die französische Haupt- und Weltstadt Paris erfindet sich immer wieder neu. Klassiker wie Notre Dame\, Eiffelturm oder Louvre\, die Jugendstilbauten von Hector Guimard oder die Häuser La Roche und Jeanneret von Le Corbusier verdienen unsere Aufmerksamkeit. Dazu richten wir den Blick auf Bauten der neueren Zeit\, wie das „Institut du monde arabe“ von Jean Nouvel\, die Fondation Louis Vuitton von Frank O. Gehry und die Nationalbibliothek von Dominique Perrault. \n\n\n\nGebühr: 9\,00 € Einzelkarten-Preis\n\n\n\n\nOrt: Online\n\n\nHinweis: Anmeldung erforderlich\nVeranstaltungstyp: Online-Vortrag\nMVHS-Card: Auch mit MVHS-Card
URL:https://www.architektur-sehenlernen.de/termine/paris-die-stadt-der-liebe-und-der-kunst/
CATEGORIES:Online Vorträge,Termine
ORGANIZER;CN="M%C3%BCnchner Volkshochschule":MAILTO:info@mvhs.de
END:VEVENT
BEGIN:VEVENT
DTSTART;TZID=Europe/Berlin:20260521T190000
DTEND;TZID=Europe/Berlin:20260521T203000
DTSTAMP:20260420T135644
CREATED:20260205T152339Z
LAST-MODIFIED:20260205T152339Z
UID:1285-1779390000-1779395400@www.architektur-sehenlernen.de
SUMMARY:Sep Ruf (1908-1982) Architektur voller Leichtigkeit und Transparenz
DESCRIPTION:Der Münchner Architekt Sep Ruf prägte die deutsche Nachkriegsarchitektur mit Leichtigkeit\, Transparenz\, neuen Materialien und fließenden Übergängen zwischen Innen und Außen. Noch heute vermitteln seine Bauten eine Vorstellung von der geplanten radikalen Modernisierung der Stadt. Die Akademie der Schönen Künste in Nürnberg\, die Neue Maxburg in München und der Kanzlerbungalow in Bonn geben Zeugnis von seiner Architektur. \nDie MVHS zeigt den Dokumentarfilm „Sep Ruf – Architekt der Moderne“ am 12.5.2026 im August Everding Saal der Gemeinde Grünwald. \n  \nGebühr: 9\,00 € \nInfo & Beratung: \n\nFachliche Beratung: (089) 48006-6725\nFragen zur Buchung: (089) 48006-0
URL:https://www.architektur-sehenlernen.de/termine/sep-ruf-1908-1982-architektur-voller-leichtigkeit-und-transparenz/
LOCATION:Bürgerhaus Römerschanz\, Dr.-Max-Str. 1\, Grünwald\, Germany
CATEGORIES:Termine,Vorträge
ORGANIZER;CN="M%C3%BCnchner Volkshochschule":MAILTO:info@mvhs.de
END:VEVENT
BEGIN:VEVENT
DTSTART;TZID=Europe/Berlin:20260611T090000
DTEND;TZID=Europe/Berlin:20260614T200000
DTSTAMP:20260420T135644
CREATED:20260205T202210Z
LAST-MODIFIED:20260205T202210Z
UID:1316-1781168400-1781467200@www.architektur-sehenlernen.de
SUMMARY:Berlin mit Bernau – auf den Spuren der architektonischen Moderne
DESCRIPTION:11. bis 14. Juni 2026\n\n\n\n\nBerlin gilt als Hauptstadt der Klassischen Moderne: Von 1919 bis 1933 und in der Nachkriegsmoderne waren hier Architekten wie Le Corbusier\, Hannes Meyer\, Bruno Taut und Walter Gropius tätig. Ein Teil ihrer Bauten ist heute UNESCO-Welterbe\, darunter die Bundesschule in Bernau. Erleben Sie die Entwicklungen in West- und Ostberlin\, vom Hansaviertel zur Frankfurter Allee\, vom Futurium bis zur Museumsinsel und zum Humboldtforum. Ein Besuch der Beelitz-Heilstätten\, heute Lost Place und Ausflugsziel\, rundet die Reise ab. \n  \nDo\, 11. Juni: Berlin – Anreise über die Hufeisensiedlung Britz \nTreffpunkt am Hauptbahnhof München und Start um 7.30 Uhr. Fahrt im bequemen Reisebus nach Berlin. Anreise über die Hufeisensiedlung Britz\, erbaut von Max Taut (UNESCO-Welterbe der Moderne). Kleine Besichtigungsrunde und Erläuterungen durch den „Verein Freunde und Förderer der Hufeisensiedlung“ (angefragt). In Berlin-Charlottenburg angekommen\, checken wir im B&B Hotel am Sophie-Charlotte-Platz ein. Das Hotel liegt etwa einen Kilometer vom Schlosspark Charlottenburg (bis 21 Uhr geöffnet) und 600 m vom Lietzenseepark entfernt. Gemeinsames Abendessen. \n  \nFr\, 12. Juni: Berlin – Hansa-Viertel\, Potsdamer Platz\, Regierungsviertel\, Futurium \nMit dem Bus fahren wir zum Hansa-Viertel. Gemeinsam erkunden wir die architektonischen Zeugnisse der Interbau (1955-57) unter anderem mit Bauten von Alvar Aalto\, Oskar Niemeyer\, Sep Ruf und Walter Gropius. Führung durch die Reiseleitung. Vom Hansa-Viertel aus fahren wir zum Potsdamer Platz. Möglichkeit zum individuellen Mittagsimbiss. Vom 103 Meter hohen Kollhoff-Tower erleben wir den Anfang der 1990er Jahre neu aufgebauten Potsdamer Platz\, blicken auf Philharmonie\, Kammermusiksaal\, Staatsbibliothek\, Neue Nationalgalerie und den Tiergarten. Anschließend geht es mit dem Bus zum Regierungsviertel. Gemeinsam besuchen wir das „Futurium“\, ein 2019 eröffnetes Museum\, das „Museum\, Bühne und Forum für offene Fragen der Zukunft“ sein will. Ein gemeinsamer Spaziergang entlang der Spree führt zum Zollpackhof\, einem Berliner Restaurant\, wo bei gutem Wetter sogar ein Biergarten einlädt. \n  \nSa\, 13. Juni: Weiße Stadt und UNESCO-Welterbe Bauhaus Bernau\, DDR-Wiederaufbauarchitektur Berlin \nDieser Tag führt uns zur Bundesschule des ADGB in Bernau\, erbaut von Hannes Meyer und seinen Bauhaus-Studierenden. Auf dem Weg nach Bernau machen wir einen Zwischenstopp in der „Weißen Stadt“. Sie ist eine der Siedlungen der Berliner Moderne\, die ebenso wie die Bundesschule heute zum UNESCO-Welterbe gehört. Führung durch die Reiseleitung. Danach besichtigen wir die Bundesschule Bernau unter Führung des „Vereins Denkmal Bundesschule Bernau e.V.“ (angefragt) Individueller Mittagsimbiss in Bernau. Am späten Nachmittag – wieder zurück in Berlin – fahren wir mit dem Reisebus durch die Frankfurter Allee / Karl-Marx-Allee und sehen vom Bus aus DDR-Wiederaufbauarchitektur. Individueller Abendausklang. \n  \nSo\, 14. Juni: Le-Corbusier-Haus\, Beelitz-Heilstätten\, Rückfahrt \nDie Rückfahrt nach München führt uns zunächst zum Le-Corbusier-Haus in der Flatowallee (Außenbesichtigung) und dann nach Beelitz-Heilstätten\, einem ehemaligen Lungensanatorium errichtet von 1898 bis 1930 von der Landesversicherungsanstalt Berlin und heute „Lost Place“. Wir bekommen eine kleine Führung durch die Gebäude und können das Gelände bequem vom Baumwipfelpfad (mit Aufzug) aus überblicken. Nach einem individuellen Mittagessen in Beelitz-Heilstätten treten wir die Heimreise nach München an. \n  \nVorbehaltlich Programmänderungen vor Ort \n  \nLeistungen: \nFahrt mit dem Reisebus München -Berlin – München\, 3 x Ü/F im Hotel B&B Charlottenburg\, 1 x Abendessen\, Studienreiseleitung ab/bis München\, obligatorische lokale Reiseleitung\, Eintritte\, Audiosystem\, Reisepreissicherungsschein. \n  \nNicht inklusive sind eine Reiserücktrittskostenversicherung (kann bei kultour-kontor abgeschlossen werden) sowie Trinkgelder für Reiseleitung\, Busfahrer und im Hotel. \n  \nZur Vorbereitung empfehlen wir den Vortrag W183050 am 2.3. mit Frau Dr. Voss. \n\n\n\n\n\n\nKurstermine4 \n\n\n1Donnerstag•11.06.2026•09:00 – 20:00 Uhr\n\n\n2Freitag•12.06.2026•09:00 – 20:00 Uhr\n\n\n3Samstag•13.06.2026•09:00 – 20:00 Uhr\n\n\n4Sonntag•14.06.2026•09:00 – 20:00 Uhr\n\n\nKursnummer: W185160 \n\n\nStart\nDo. 11.06.2026\n09:00 Uhr\n\n\n\n\nEnde\nSo. 14.06.2026\n20:00 Uhr\n\n\n\n\n\nDozent*in:\nStudienreiseleitung: Dr. Kaija Voss · Reiseveranstalter: kultour-kontor studienreisen\, Agnesstraße 24\, 80798 München\n\n\nGebühr: Reisepreis p.P. im DZ: € 1.175.- (20-25 TN)\nEZ-Zuschlag: € 210.- Bezahlung beim Veranstalter · Es gelten die Reisebedingungen des Veranstalters\n\n\n\n\nOrt:\nTreffpunkt wird mitgeteilt\, Studienreisen\n\n\nHinweis: Die Anmeldeunterlagen des Reiseveranstalters erhalten Sie im Fachgebiet\, Telefon (089) 48006-6710/6726 oder E-Mail: studienreisen@mvhs.de· Anmeldeschluss: 1.4.2026\, danach auf Anfrage · Der Reiseveranstalter behält sich vor\, die Reise bis zum Anmeldeschluss abzusagen\, sollte die Mindestteilnehmendenzahl nicht erreicht werden. Hinweis: Diese Reise ist nicht barrierefrei.
URL:https://www.architektur-sehenlernen.de/termine/berlin-mit-bernau-auf-den-spuren-der-architektonischen-moderne-5/
CATEGORIES:Reisen & Tagesexkursionen,Termine
ORGANIZER;CN="M%C3%BCnchner Volkshochschule":MAILTO:info@mvhs.de
END:VEVENT
BEGIN:VEVENT
DTSTART;TZID=Europe/Berlin:20260618T180000
DTEND;TZID=Europe/Berlin:20260618T193000
DTSTAMP:20260420T135644
CREATED:20260205T152508Z
LAST-MODIFIED:20260205T152508Z
UID:1288-1781805600-1781811000@www.architektur-sehenlernen.de
SUMMARY:Prag – die "Goldene Stadt"
DESCRIPTION:In Prag verbinden sich Kunst\, Kultur und Architektur zu einem einzigartigen Erlebnis. Seit 1992 gehört die Stadt an der Moldau zum Weltkulturerbe. Vom Mittelalter über Renaissance und Barock bis zum Historismus: Prag kann Meisterwerke aus allen Stilepochen bieten. Besonders bedeutend ist auch der Jugendstil um 1900\, als sich die Stadt sich zu einem der wichtigsten Zentren Europas entwickelte. Für das 20. und 21. Jahrhundert finden wir Bauten des „Prager Kubismus“\, von dem es nur wenige Beispiele gibt\, der Moderne und des Dekonstruktivismus. \n\n\n\nGebühr: 9\,00 €
URL:https://www.architektur-sehenlernen.de/termine/prag-die-goldene-stadt-2/
LOCATION:MVHS in Ramersdorf\, Claudius-Keller-Str. 7\, Ramersdorf\, 81669
CATEGORIES:Termine,Vorträge
ORGANIZER;CN="M%C3%BCnchner Volkshochschule":MAILTO:info@mvhs.de
END:VEVENT
BEGIN:VEVENT
DTSTART;TZID=Europe/Berlin:20260625T180000
DTEND;TZID=Europe/Berlin:20260625T193000
DTSTAMP:20260420T135644
CREATED:20260205T152813Z
LAST-MODIFIED:20260205T152813Z
UID:1290-1782410400-1782415800@www.architektur-sehenlernen.de
SUMMARY:Helsinki und die skandinavische Moderne
DESCRIPTION:Helsinki\, oft als die „Designhauptstadt“ Europas bezeichnet\, bietet neben Zeugnissen des Historismus vor allem innovative Architektur des 20. und 21. Jahrhunderts. Weithin bekannt sind die Felsenkapelle\, die Finlandia-Halle und die Olympiabauten. Architekten wie Eliel Saarinen oder Alvar Aalto prägten das moderne Gesicht der finnischen Hauptstadt. Erleben Sie Helsinkis besondere Atmosphäre mit Bauten im Licht der Mittsommersonne. \n  \nGebühr: 9\,00 €
URL:https://www.architektur-sehenlernen.de/termine/helsinki-und-die-skandinavische-moderne/
LOCATION:MVHS in Ramersdorf\, Claudius-Keller-Str. 7\, Ramersdorf\, 81669
CATEGORIES:Termine,Vorträge
ORGANIZER;CN="M%C3%BCnchner Volkshochschule":MAILTO:info@mvhs.de
END:VEVENT
BEGIN:VEVENT
DTSTART;TZID=Europe/Berlin:20260701T180000
DTEND;TZID=Europe/Berlin:20260701T193000
DTSTAMP:20260420T135644
CREATED:20260205T152930Z
LAST-MODIFIED:20260205T152930Z
UID:1292-1782928800-1782934200@www.architektur-sehenlernen.de
SUMMARY:Ludwig Mies van der Rohe (1886-1969) Meister einer minimalistischen Ästhetik
DESCRIPTION:Wie kaum ein anderer prägte Ludwig Mies van der Rohe die Architektur des 20. Jahrhunderts. Sein „Less is more“ – weniger ist mehr – wurde zum Schlagwort für puristische und edle Architektur. In seinen „Fünf Projekte(n)“ zeigte er grundlegende Ideen der Moderne. Von 1930 bis 1933 war er dritter Bauhaus-Direktor\, 1938 emigrierte er in die USA\, prägte Chicago mit seinen Bauten und wurde Leiter der Architekturabteilung des Illinois Institute of Technology. Kurz vor seinem Tod 1969\, vor 50 Jahren\, vollendete er in Berlin die Neue Nationalgalerie. \nGebühr: 9\,00 € \nInfo & Beratung: \n\nFachliche Beratung: (089) 48006-6725\nFragen zur Buchung: (089) 48006-0
URL:https://www.architektur-sehenlernen.de/termine/ludwig-mies-van-der-rohe-1886-1969-meister-einer-minimalistischen-aesthetik/
LOCATION:Bildungszentrum\, Einsteinstr. 28\, München
CATEGORIES:Termine,Vorträge
ORGANIZER;CN="M%C3%BCnchner Volkshochschule":MAILTO:info@mvhs.de
END:VEVENT
BEGIN:VEVENT
DTSTART;TZID=Europe/Berlin:20260722T180000
DTEND;TZID=Europe/Berlin:20260722T193000
DTSTAMP:20260420T135644
CREATED:20260205T153113Z
LAST-MODIFIED:20260205T153113Z
UID:1294-1784743200-1784748600@www.architektur-sehenlernen.de
SUMMARY:Frank Lloyd Wright (1867-1959) Architekt der amerikanischen Moderne
DESCRIPTION:Seine Architektur erdachte Bauten anders als gewohnt: Von seinen horizontal orientierten Prairie-Häusern\, in denen Frank Lloyd Wright schon früh mit fließenden Raumkonzepten arbeitete\, über das spektakuläre Haus Fallingwater geht es bis zum Guggenheim Museum in New York City und der Johnson Wax Company in Wisconsin. Erleben Sie einen faszinierenden Architekten\, der seine Ideen eines organischen Bauens ohne akademischen Abschluss realisierte und neue urbane Konzepte erdachte. \nGebühr: 9\,00 € \nInfo & Beratung: \n\nFachliche Beratung: (089) 48006-6725\nFragen zur Buchung: (089) 48006-0
URL:https://www.architektur-sehenlernen.de/termine/frank-lloyd-wright-1867-1959-architekt-der-amerikanischen-moderne/
LOCATION:Bildungszentrum\, Einsteinstr. 28\, München
CATEGORIES:Termine,Vorträge
ORGANIZER;CN="M%C3%BCnchner Volkshochschule":MAILTO:info@mvhs.de
END:VEVENT
BEGIN:VEVENT
DTSTART;TZID=Europe/Berlin:20260729T180000
DTEND;TZID=Europe/Berlin:20260729T193000
DTSTAMP:20260420T135644
CREATED:20260205T153230Z
LAST-MODIFIED:20260205T153230Z
UID:1296-1785348000-1785353400@www.architektur-sehenlernen.de
SUMMARY:Antoni Gaudí zum 100. Todestag Architektur voller Fantasie und Farben
DESCRIPTION:Der katalanische Architekt Antoni Gaudí (1852-1926) prägte um 1900 mit seinen farbenfrohen Bauten die Stadt Barcelona. Die fantasievolle Architektur von Antoni Gaudí lässt sich in kein Schema zwängen. Die Architekturhistorikerin Dr. Kaija Voss stellt wichtige Bauten von Gaudí in Barcelona vor: Palao Güell\, Parc Güell\, Casa Batlló und Casa Mila. Bei der noch im Bau befindlichen Kathedrale Sagrada Familia soll 2026 zum Gaudí-Jubiläum der 172\,50 Meter hohe Jesus-Christus-Turm vollendet werden. Damit wird sie zum höchsten Kirchenbau der Welt. \n  \nGebühr: 9\,00 € \nInfo & Beratung: \n\nFachliche Beratung: (089) 48006-6725\nFragen zur Buchung: (089) 48006-0
URL:https://www.architektur-sehenlernen.de/termine/antoni-gaudi-zum-100-todestag-architektur-voller-fantasie-und-farben/
LOCATION:Bildungszentrum\, Einsteinstr. 28\, München
CATEGORIES:Termine,Vorträge
ORGANIZER;CN="M%C3%BCnchner Volkshochschule":MAILTO:info@mvhs.de
END:VEVENT
BEGIN:VEVENT
DTSTART;TZID=Europe/Berlin:20260914T180000
DTEND;TZID=Europe/Berlin:20260914T193000
DTSTAMP:20260420T135644
CREATED:20260205T153333Z
LAST-MODIFIED:20260205T153333Z
UID:1298-1789408800-1789414200@www.architektur-sehenlernen.de
SUMMARY:New York City - die Stadt der Träume
DESCRIPTION:New York ist eine alte Bekannte – populär durch Hollywoodfilme und Musiktitel\, durch Architekturikonen und Reflexionen der Stadt in der Kunst. Faszinierend ist vor allem Manhattan mit seinen Skyscrapern\, dem Central Park\, dem Times Square und dem Broadway. Die Freiheitsstatue und das Empire State Building wurden ebenso zum Symbol für Amerika wie das One World Trade Center. Erleben Sie viele Facetten und Bauten der Stadt\, die niemals schläft\, in einem Vortrag der Architekturhistorikerin Dr. Kaija Voss. \nGebühr: 9\,00 €
URL:https://www.architektur-sehenlernen.de/termine/new-york-city-die-stadt-der-traeume/
LOCATION:Bildungszentrum\, Einsteinstr. 28\, München
CATEGORIES:Termine,Vorträge
ORGANIZER;CN="M%C3%BCnchner Volkshochschule":MAILTO:info@mvhs.de
END:VEVENT
BEGIN:VEVENT
DTSTART;TZID=Europe/Berlin:20260917T170000
DTEND;TZID=Europe/Berlin:20260917T183000
DTSTAMP:20260420T135644
CREATED:20260205T201918Z
LAST-MODIFIED:20260205T201918Z
UID:1314-1789664400-1789669800@www.architektur-sehenlernen.de
SUMMARY:Die Ausstellungen "100 Jahre – 100 Objekte" und "Kitchen culture" in Die Neue Sammlung - The Design Museum
DESCRIPTION:Zu ihrem 100-jährigen Bestehen präsentiert die Neue Sammlung – The Design Museum 100 designhistorische Meilensteine und Alltagsgegenstände mit Wiedererkennungswert. Präsentiert werden sie in der Chronologie ihrer Aufnahme in die Sammlung. Der ungewöhnliche Blick spiegelt die Rezeption der Exponate und die Entwicklung der Sammlung. Ergänzt wird die Jubiläumsausstellung mit einem Blick in die Küche: „Kitchen culture“ zeigt acht moderne Kücheneinrichtungen\, vom Neuen Frankfurt bis zur Interbau. \nGebühr: 9\,00 €
URL:https://www.architektur-sehenlernen.de/termine/die-ausstellungen-100-jahre-100-objekte-und-kitchen-culture-in-die-neue-sammlung-the-design-museum-3/
LOCATION:Pinakothek der Moderne\, Barer Str. 40\, Maxvorstadt München
CATEGORIES:Führungen,Termine
ORGANIZER;CN="M%C3%BCnchner Volkshochschule":MAILTO:info@mvhs.de
END:VEVENT
BEGIN:VEVENT
DTSTART;TZID=Europe/Berlin:20260921T180000
DTEND;TZID=Europe/Berlin:20260921T193000
DTSTAMP:20260420T135644
CREATED:20260205T153429Z
LAST-MODIFIED:20260205T153429Z
UID:1300-1790013600-1790019000@www.architektur-sehenlernen.de
SUMMARY:Chicago – Kulturmetropole am Lake Michigan
DESCRIPTION:Das lebendige und kulturaffine Chicago ist jede Reise wert. Großartige Architektur und namhafte Architekt*innen sind das Markenzeichen der Stadt am Lake Michigan. Auf die Chicagoer Schule und die ersten Wolkenkratzer nach dem Großen Brand von 1871 folgen Bauten von Frank Lloyd Wright und Ludwig Mies van der Rohe. Vom Riverwalk mit seinen bekannten Marina-City-Türmen geht es über den Millennium Parc mit Jay-Pritzker-Pavillon von Frank O. Gehry und „The Bean“ von Anish Kapoor bis zum Art Institute of Chicago. \nGebühr: 9\,00 €
URL:https://www.architektur-sehenlernen.de/termine/chicago-kulturmetropole-am-lake-michigan/
LOCATION:Bildungszentrum\, Einsteinstr. 28\, München
CATEGORIES:Termine,Vorträge
ORGANIZER;CN="M%C3%BCnchner Volkshochschule":MAILTO:info@mvhs.de
END:VEVENT
BEGIN:VEVENT
DTSTART;TZID=Europe/Berlin:20260928T180000
DTEND;TZID=Europe/Berlin:20260928T193000
DTSTAMP:20260420T135644
CREATED:20260205T153532Z
LAST-MODIFIED:20260205T153532Z
UID:1302-1790618400-1790623800@www.architektur-sehenlernen.de
SUMMARY:Washington D.C. – eine architektonische Spurensuche zwischen Amerika und Europa
DESCRIPTION:Auf der National Mall in Washington D.C. – zwischen Kapitol und Lincoln Memorial – treffen wir auf klassizistisch geprägte Architektur und die von Versailles beeinflusste Stadtplanung des Franzosen Pierre L’Enfant. Das Weiße Haus tritt das architektonische Erbe Andrea Palladios an. Gigantischen Neoklassizismus zeigt die Washington Union Station\, die zum Vorbild für den Mailänder Hauptbahnhof wurde. Ein Ausflug an die Atlantikküste führt nach Wildwood\, wo viele Motels als Zeugnisse der Doo-Wop-Architecture der 1950er-/1960er-Jahre erhalten sind. \n  \nGebühr: 9\,00 €
URL:https://www.architektur-sehenlernen.de/termine/washington-d-c-eine-architektonische-spurensuche-zwischen-amerika-und-europa/
LOCATION:Bildungszentrum\, Einsteinstr. 28\, München
CATEGORIES:Termine,Vorträge
ORGANIZER;CN="M%C3%BCnchner Volkshochschule":MAILTO:info@mvhs.de
END:VEVENT
END:VCALENDAR