BEGIN:VCALENDAR
VERSION:2.0
PRODID:-//Architektur: Sehen lernen! - ECPv6.15.13//NONSGML v1.0//EN
CALSCALE:GREGORIAN
METHOD:PUBLISH
X-WR-CALNAME:Architektur: Sehen lernen!
X-ORIGINAL-URL:https://www.architektur-sehenlernen.de
X-WR-CALDESC:Veranstaltungen für Architektur: Sehen lernen!
REFRESH-INTERVAL;VALUE=DURATION:PT1H
X-Robots-Tag:noindex
X-PUBLISHED-TTL:PT1H
BEGIN:VTIMEZONE
TZID:Europe/Berlin
BEGIN:DAYLIGHT
TZOFFSETFROM:+0100
TZOFFSETTO:+0200
TZNAME:CEST
DTSTART:20240331T010000
END:DAYLIGHT
BEGIN:STANDARD
TZOFFSETFROM:+0200
TZOFFSETTO:+0100
TZNAME:CET
DTSTART:20241027T010000
END:STANDARD
BEGIN:DAYLIGHT
TZOFFSETFROM:+0100
TZOFFSETTO:+0200
TZNAME:CEST
DTSTART:20250330T010000
END:DAYLIGHT
BEGIN:STANDARD
TZOFFSETFROM:+0200
TZOFFSETTO:+0100
TZNAME:CET
DTSTART:20251026T010000
END:STANDARD
BEGIN:DAYLIGHT
TZOFFSETFROM:+0100
TZOFFSETTO:+0200
TZNAME:CEST
DTSTART:20260329T010000
END:DAYLIGHT
BEGIN:STANDARD
TZOFFSETFROM:+0200
TZOFFSETTO:+0100
TZNAME:CET
DTSTART:20261025T010000
END:STANDARD
END:VTIMEZONE
BEGIN:VEVENT
DTSTART;TZID=Europe/Berlin:20250919T100000
DTEND;TZID=Europe/Berlin:20250919T120000
DTSTAMP:20260421T074146
CREATED:20250910T195458Z
LAST-MODIFIED:20250910T195717Z
UID:1136-1758276000-1758283200@www.architektur-sehenlernen.de
SUMMARY:DGB-Bildungswerk Münchenprogramm
DESCRIPTION:Klassische Moderne und Herz-Jesu-Kirche \n  \nDie Bauhaus-Architektur ist an München spurlos vorbeigegangen? Überzeugen Sie sich vom Gegenteil! Klein aber fein: die Münchner Postbauschule unter Robert Vorhoelzer\, mit der Versuchssiedlung des Bayerischen Post- und Telegraphenverbandes und zahlreichen Postämtern. Lohnenswert die Siedlung Neuhausen\, eine Reaktion auf das Münchner Wohnungselend der 20er Jahre. Sie entstand im Rahmen des „Münchner Wohnungsbauprogramms von 1928-30“. Im Anschluss an den Siedlungsrundgang besuchen wir ein Highlight der Gegenwartsarchitektur: die Herz-Jesu-Kirche. \n  \n\n\n\nTeilnahmegebühr\n9.00 €
URL:https://www.architektur-sehenlernen.de/termine/dgb-bildungswerk-muenchenprogramm/
LOCATION:Steubenplatz / Ecke Arnulfstraße\, Steubenplatz / Ecke Arnulfstraße\, München
CATEGORIES:Führungen,Termine
END:VEVENT
END:VCALENDAR