BEGIN:VCALENDAR
VERSION:2.0
PRODID:-//Architektur: Sehen lernen! - ECPv6.15.13//NONSGML v1.0//EN
CALSCALE:GREGORIAN
METHOD:PUBLISH
X-WR-CALNAME:Architektur: Sehen lernen!
X-ORIGINAL-URL:https://www.architektur-sehenlernen.de
X-WR-CALDESC:Veranstaltungen für Architektur: Sehen lernen!
REFRESH-INTERVAL;VALUE=DURATION:PT1H
X-Robots-Tag:noindex
X-PUBLISHED-TTL:PT1H
BEGIN:VTIMEZONE
TZID:Europe/Berlin
BEGIN:DAYLIGHT
TZOFFSETFROM:+0100
TZOFFSETTO:+0200
TZNAME:CEST
DTSTART:20240331T010000
END:DAYLIGHT
BEGIN:STANDARD
TZOFFSETFROM:+0200
TZOFFSETTO:+0100
TZNAME:CET
DTSTART:20241027T010000
END:STANDARD
BEGIN:DAYLIGHT
TZOFFSETFROM:+0100
TZOFFSETTO:+0200
TZNAME:CEST
DTSTART:20250330T010000
END:DAYLIGHT
BEGIN:STANDARD
TZOFFSETFROM:+0200
TZOFFSETTO:+0100
TZNAME:CET
DTSTART:20251026T010000
END:STANDARD
BEGIN:DAYLIGHT
TZOFFSETFROM:+0100
TZOFFSETTO:+0200
TZNAME:CEST
DTSTART:20260329T010000
END:DAYLIGHT
BEGIN:STANDARD
TZOFFSETFROM:+0200
TZOFFSETTO:+0100
TZNAME:CET
DTSTART:20261025T010000
END:STANDARD
END:VTIMEZONE
BEGIN:VEVENT
DTSTART;TZID=Europe/Berlin:20250704T100000
DTEND;TZID=Europe/Berlin:20250704T120000
DTSTAMP:20260421T054826
CREATED:20250312T194454Z
LAST-MODIFIED:20250312T194454Z
UID:243-1751623200-1751630400@www.architektur-sehenlernen.de
SUMMARY:Die Borstei in München - Eine kultivierte Wohnanlage aus den 1920er Jahren
DESCRIPTION:Die Borstei ist der Klassiker\, wenn es um interessante Wohnbaumodelle in München geht. Aber kennt man sie wirklich? Warum ist sie traditionell und trotzdem modern? Wie kam sie zu ihrem Namen? Wer genau war Bernhard Borst? Ein gemeinsamer Spaziergang durch die Borstei\, ihre Gärten und das Borsteimuseum wird alle Ihre Fragen beantworten\, Kunst- und Architekturgenuss inklusive. \n  \n\n\n\nKursgebühr:\n12\,00 €
URL:https://www.architektur-sehenlernen.de/termine/die-borstei-in-muenchen-eine-kultivierte-wohnanlage-aus-den-1920er-jahren/
LOCATION:Borstei\, Franz-Marc-Straße 6\, München\, 80637
CATEGORIES:Führungen,Termine
END:VEVENT
END:VCALENDAR