BEGIN:VCALENDAR
VERSION:2.0
PRODID:-//Architektur: Sehen lernen! - ECPv6.15.13//NONSGML v1.0//EN
CALSCALE:GREGORIAN
METHOD:PUBLISH
X-WR-CALNAME:Architektur: Sehen lernen!
X-ORIGINAL-URL:https://www.architektur-sehenlernen.de
X-WR-CALDESC:Veranstaltungen für Architektur: Sehen lernen!
REFRESH-INTERVAL;VALUE=DURATION:PT1H
X-Robots-Tag:noindex
X-PUBLISHED-TTL:PT1H
BEGIN:VTIMEZONE
TZID:Europe/Berlin
BEGIN:DAYLIGHT
TZOFFSETFROM:+0100
TZOFFSETTO:+0200
TZNAME:CEST
DTSTART:20240331T010000
END:DAYLIGHT
BEGIN:STANDARD
TZOFFSETFROM:+0200
TZOFFSETTO:+0100
TZNAME:CET
DTSTART:20241027T010000
END:STANDARD
BEGIN:DAYLIGHT
TZOFFSETFROM:+0100
TZOFFSETTO:+0200
TZNAME:CEST
DTSTART:20250330T010000
END:DAYLIGHT
BEGIN:STANDARD
TZOFFSETFROM:+0200
TZOFFSETTO:+0100
TZNAME:CET
DTSTART:20251026T010000
END:STANDARD
BEGIN:DAYLIGHT
TZOFFSETFROM:+0100
TZOFFSETTO:+0200
TZNAME:CEST
DTSTART:20260329T010000
END:DAYLIGHT
BEGIN:STANDARD
TZOFFSETFROM:+0200
TZOFFSETTO:+0100
TZNAME:CET
DTSTART:20261025T010000
END:STANDARD
END:VTIMEZONE
BEGIN:VEVENT
DTSTART;TZID=Europe/Berlin:20251125T180000
DTEND;TZID=Europe/Berlin:20251125T210000
DTSTAMP:20260421T042607
CREATED:20251119T125639Z
LAST-MODIFIED:20251119T125650Z
UID:1214-1764093600-1764104400@www.architektur-sehenlernen.de
SUMMARY:Die Zukunft sakraler Bauten – Verantwortung von Kirche\, Staat und Denkmalschutz
DESCRIPTION:Das Ortskuratorium München der Deutschen Stiftung Denkmalschutz unter Leitung von Axel Hofstadt lädt Sie herzlich zur dritten Veranstaltung aus der Reihe „Quo Vadis? – Zur Zukunft bedrohter Kirchen“ ein. Die Zukunft sakraler Bauten steht im Mittelpunkt des Podiumsgesprächs mit Vertretern aus Denkmalpflege\, Stadtplanung\, Wissenschaft und Kirche. \nKirchen prägen das Stadtbild\, sind Orte von Geschichte\, Spiritualität und Gemeinschaft. Doch was geschieht\, wenn sie nicht mehr als Gottesdiensträume gebraucht und genutzt werden? Ein Teil der oft denkmalgeschützten Bauwerke wird stillgelegt\, verkauft und säkularisiert. Einige verfallen\, werden abgerissen oder umgewidmet. Wie können Kirche\, Staat und Denkmalpflege Verantwortung übernehmen – und welche neuen Chancen eröffnen sich? \nDarüber diskutieren: \n\nProf. Dipl.-Ing. Mathias Pfeil (Generalkonservator Bayerisches Landesamt für Denkmalpflege)\nProf. Dr. Elisabeth Merk (Stadtbaurätin Landeshauptstadt München)\nProf. Dr. habil. Karin Berkemann (Hochschule Anhalt\, Campus Dessau\, Mitglied im Kuratorium Deutsche Stiftung Denkmalschutz)\nOrdinariatsrat Dr. Walter Zahner (Leiter der Hauptabteilung Seelsorge\, Diözese Regensburg)\nDr. Bernhard Liess (Stadtdekan Evang.-Lutherischer Dekanatsbezirk München)\n\n\n\n\nImpulsvortrag: \n\n\n\n\nDr. Kaija Voss (Architekturhistorikerin\, Autorin\, Dozentin) \n\n\n\n\n\nModeration: \n\n\n\n\nDr. Manuela Klauser (Kunsthistorikerin\, TRANSARA-Mitarbeiterin) \n\n\n\n\n\n\n\n\n\n\n\nEinlass: 18:00 Uhr \n\n\n\n\n\n\nBeginn: 18:30 Uhr \n\n\n\n\n\n\nVerabschiedung: 21:00 Uhr \n\n\n\n\n  \n\n\n\n\n\n\nOrt\n\n\nDeutsches Jagd- und Fischereimuseum (einstige Augustinerkirche)\nNeuhauserstr. 2\, 80331 München \n\n\n\n\nTermin\n\n\n25.11.2025\n18:00 Uhr – 21:00 Uhr \n\n\n\n\nAnmeldung\n\n\nZur Online-Anmeldung \n\n\n\n\nHinweis\n\n\nDer Eintritt ist frei. Um Spenden für die Arbeit der Deutschen Stiftung Denkmalschutz wird herzlich gebeten.
URL:https://www.architektur-sehenlernen.de/termine/die-zukunft-sakraler-bauten-verantwortung-von-kirche-staat-und-denkmalschutz/
LOCATION:Deutsches Jagd- und Fischereimuseum (einstige Augustinerkirche)\, Neuhauserstr. 2\, 80331 München\, 80331\, Germany
CATEGORIES:Termine,Vorträge
END:VEVENT
END:VCALENDAR