BEGIN:VCALENDAR
VERSION:2.0
PRODID:-//Architektur: Sehen lernen! - ECPv6.15.13//NONSGML v1.0//EN
CALSCALE:GREGORIAN
METHOD:PUBLISH
X-WR-CALNAME:Architektur: Sehen lernen!
X-ORIGINAL-URL:https://www.architektur-sehenlernen.de
X-WR-CALDESC:Veranstaltungen für Architektur: Sehen lernen!
REFRESH-INTERVAL;VALUE=DURATION:PT1H
X-Robots-Tag:noindex
X-PUBLISHED-TTL:PT1H
BEGIN:VTIMEZONE
TZID:Europe/Berlin
BEGIN:DAYLIGHT
TZOFFSETFROM:+0100
TZOFFSETTO:+0200
TZNAME:CEST
DTSTART:20250330T010000
END:DAYLIGHT
BEGIN:STANDARD
TZOFFSETFROM:+0200
TZOFFSETTO:+0100
TZNAME:CET
DTSTART:20251026T010000
END:STANDARD
BEGIN:DAYLIGHT
TZOFFSETFROM:+0100
TZOFFSETTO:+0200
TZNAME:CEST
DTSTART:20260329T010000
END:DAYLIGHT
BEGIN:STANDARD
TZOFFSETFROM:+0200
TZOFFSETTO:+0100
TZNAME:CET
DTSTART:20261025T010000
END:STANDARD
BEGIN:DAYLIGHT
TZOFFSETFROM:+0100
TZOFFSETTO:+0200
TZNAME:CEST
DTSTART:20270328T010000
END:DAYLIGHT
BEGIN:STANDARD
TZOFFSETFROM:+0200
TZOFFSETTO:+0100
TZNAME:CET
DTSTART:20271031T010000
END:STANDARD
END:VTIMEZONE
BEGIN:VEVENT
DTSTART;TZID=Europe/Berlin:20260701T180000
DTEND;TZID=Europe/Berlin:20260701T193000
DTSTAMP:20260420T174103
CREATED:20260205T152930Z
LAST-MODIFIED:20260205T152930Z
UID:1292-1782928800-1782934200@www.architektur-sehenlernen.de
SUMMARY:Ludwig Mies van der Rohe (1886-1969) Meister einer minimalistischen Ästhetik
DESCRIPTION:Wie kaum ein anderer prägte Ludwig Mies van der Rohe die Architektur des 20. Jahrhunderts. Sein „Less is more“ – weniger ist mehr – wurde zum Schlagwort für puristische und edle Architektur. In seinen „Fünf Projekte(n)“ zeigte er grundlegende Ideen der Moderne. Von 1930 bis 1933 war er dritter Bauhaus-Direktor\, 1938 emigrierte er in die USA\, prägte Chicago mit seinen Bauten und wurde Leiter der Architekturabteilung des Illinois Institute of Technology. Kurz vor seinem Tod 1969\, vor 50 Jahren\, vollendete er in Berlin die Neue Nationalgalerie. \nGebühr: 9\,00 € \nInfo & Beratung: \n\nFachliche Beratung: (089) 48006-6725\nFragen zur Buchung: (089) 48006-0
URL:https://www.architektur-sehenlernen.de/termine/ludwig-mies-van-der-rohe-1886-1969-meister-einer-minimalistischen-aesthetik/
LOCATION:Bildungszentrum\, Einsteinstr. 28\, München
CATEGORIES:Termine,Vorträge
ORGANIZER;CN="M%C3%BCnchner Volkshochschule":MAILTO:info@mvhs.de
END:VEVENT
END:VCALENDAR