BEGIN:VCALENDAR
VERSION:2.0
PRODID:-//Architektur: Sehen lernen! - ECPv6.15.13//NONSGML v1.0//EN
CALSCALE:GREGORIAN
METHOD:PUBLISH
X-WR-CALNAME:Architektur: Sehen lernen!
X-ORIGINAL-URL:https://www.architektur-sehenlernen.de
X-WR-CALDESC:Veranstaltungen für Architektur: Sehen lernen!
REFRESH-INTERVAL;VALUE=DURATION:PT1H
X-Robots-Tag:noindex
X-PUBLISHED-TTL:PT1H
BEGIN:VTIMEZONE
TZID:Europe/Berlin
BEGIN:DAYLIGHT
TZOFFSETFROM:+0100
TZOFFSETTO:+0200
TZNAME:CEST
DTSTART:20240331T010000
END:DAYLIGHT
BEGIN:STANDARD
TZOFFSETFROM:+0200
TZOFFSETTO:+0100
TZNAME:CET
DTSTART:20241027T010000
END:STANDARD
BEGIN:DAYLIGHT
TZOFFSETFROM:+0100
TZOFFSETTO:+0200
TZNAME:CEST
DTSTART:20250330T010000
END:DAYLIGHT
BEGIN:STANDARD
TZOFFSETFROM:+0200
TZOFFSETTO:+0100
TZNAME:CET
DTSTART:20251026T010000
END:STANDARD
BEGIN:DAYLIGHT
TZOFFSETFROM:+0100
TZOFFSETTO:+0200
TZNAME:CEST
DTSTART:20260329T010000
END:DAYLIGHT
BEGIN:STANDARD
TZOFFSETFROM:+0200
TZOFFSETTO:+0100
TZNAME:CET
DTSTART:20261025T010000
END:STANDARD
END:VTIMEZONE
BEGIN:VEVENT
DTSTART;TZID=Europe/Berlin:20250403T140000
DTEND;TZID=Europe/Berlin:20250403T160000
DTSTAMP:20260421T142034
CREATED:20250311T164832Z
LAST-MODIFIED:20250311T210220Z
UID:181-1743688800-1743696000@www.architektur-sehenlernen.de
SUMMARY:DGB-Bildungswerk Kunstareal München
DESCRIPTION:Rund um den Königsplatz und die drei Pinakotheken bündeln sich 18 Museen und Ausstellungshäuser\, 6 Hochschulen sowie mehr als 40 Galerien. Unser Weg führt vom Lenbachhaus\, über den Königsplatz\, vorbei am NS-Dokumentationszentrum zum Neubau des Museums Ägyptischer Kunst und der Hochschule für Fernsehen und Film bis zur Pinakothek der Moderne. Kaija Voss\, Autorin der ersten Publikation über das Kunstareal im Jahr 2016 hat 2021 an einem weiteren Museumsbegleiter durch das Kunstareal gearbeitet. Lassen Sie sich überraschen – auf dem Weg durch 5000 Jahre Kulturgeschichte. \nTeilnahmegebühr: 8\,00€
URL:https://www.architektur-sehenlernen.de/termine/dgb-bildungswerk-kunstareal-muenchen/
LOCATION:Bildungswerk Bayern\, Vor dem Eingang Lenbachhaus\, Luisenstr. 33\, München\, Bayern\, 80331\, Germany
CATEGORIES:Führungen,Termine
END:VEVENT
BEGIN:VEVENT
DTSTART;TZID=Europe/Berlin:20250407T190000
DTEND;TZID=Europe/Berlin:20250407T203000
DTSTAMP:20260421T142034
CREATED:20250312T195029Z
LAST-MODIFIED:20250312T195036Z
UID:249-1744052400-1744057800@www.architektur-sehenlernen.de
SUMMARY:Amsterdam Tradition und Moderne umgeben von Grachten
DESCRIPTION:Digitaler Vortrag. Amsterdam ist schon aufgrund seines Städtebaus\, bei dem Straßen durch Kanäle ersetzt wurden\, ungewöhnlich und beeindruckend. Neben den großen Kirchen prägen Bauten wie die Börse von Hendrik Petrus Berlage oder Zeugnisse der Amsterdamer Schule die Stadt. Das Rijksmuseum mit der „Nachtwache“ von Rembrandt\, das Stedelijk-Museum und das Van-Gogh-Museum bilden das Museumsviertel. Moderne Bauten am Hafen\, wie das NEMO Science Center von Renzo Piano\, stehen in wirkungsvollem Kontrast zur Altstadt mit ihren giebelständigen\, dicht gedrängten Häusern. Der Vortrag findet nur online statt. Die Zugangsdaten erhalten Sie nach Anmeldung. \n\n\n\nKursnr.\nB1726K-WEB\n\n\n\n\n\n\nGebühr:\n8\,00 €
URL:https://www.architektur-sehenlernen.de/termine/amsterdam-tradition-und-moderne-umgeben-von-grachten/
LOCATION:Online\, Online
CATEGORIES:Online Vorträge,Termine
END:VEVENT
BEGIN:VEVENT
DTSTART;TZID=Europe/Berlin:20250428T180000
DTEND;TZID=Europe/Berlin:20250428T193000
DTSTAMP:20260421T142034
CREATED:20250312T200213Z
LAST-MODIFIED:20250312T200236Z
UID:261-1745863200-1745868600@www.architektur-sehenlernen.de
SUMMARY:Barcelona: Baukunst am Mittelmeer
DESCRIPTION:Der Stadtspaziergang mit einer Architekturhistorikerin zu den berühmten Bauprojekten Barcelonas beginnt im gotischen Viertel\, in dessen Zentrum die Kathedrale steht. Um 1900 prägte der katalanische Architekt Antoni Gaudí mit seinen fantasievollen Bauten Casa Batlló\, Casa Milà\, Parc Güell und Sagrada Familia die Stadt. Ludwig Mies van der Rohe hat mit seinem Barcelona-Pavillon zur Weltausstellung 1929 ein Markenzeichen gesetzt. Der zeitgenössische Architekt Frank O. Gehry schmückte die Uferpromenade mit seiner Fischskulptur El Peix d’Or. \n  \nGebühr: 8\,00 € \nMVHS-Card: Auch mit MVHS-Card
URL:https://www.architektur-sehenlernen.de/termine/barcelona-baukunst-am-mittelmeer/
LOCATION:Bildungszentrum\, Einsteinstr. 28\, München
CATEGORIES:Termine,Vorträge
ORGANIZER;CN="M%C3%BCnchner Volkshochschule":MAILTO:info@mvhs.de
END:VEVENT
BEGIN:VEVENT
DTSTART;TZID=Europe/Berlin:20250429T193000
DTEND;TZID=Europe/Berlin:20250429T210000
DTSTAMP:20260421T142034
CREATED:20250311T201938Z
LAST-MODIFIED:20250311T204808Z
UID:185-1745955000-1745960400@www.architektur-sehenlernen.de
SUMMARY:VHS Gröbenzell	- online
DESCRIPTION:Im Süden Spaniens\, wo sich Europa und Afrika beinahe berühren\, liegt Andalusien. Viele Herrscher prägten das Land\, die Römer\, die Mauren und ab 1492\, mit der Eroberung Granadas\, die Katholischen Könige. Die Architektur spiegelt die unterschiedlichen Kulturen\, bis heute. In Sevilla genießen wir prächtige Gärten\, Bauten der Ibero-Amerikanischen Ausstellung und den Metropol Parasol. Die engen Gassen von Cordoba und die Mezquita können uns in den Orient versetzen. Granada wird bekrönt von der Alhambra und den Gärten des Generalife.\nEine Anmeldung ist bis 12.00 Uhr am Veranstaltungstag möglich. \n\nTeilnahmegebühr: 8\,00€
URL:https://www.architektur-sehenlernen.de/termine/vhs-groebenzell-online/
LOCATION:Online\, Online
CATEGORIES:Online Vorträge,Termine
END:VEVENT
END:VCALENDAR