BEGIN:VCALENDAR
VERSION:2.0
PRODID:-//Architektur: Sehen lernen! - ECPv6.15.13//NONSGML v1.0//EN
CALSCALE:GREGORIAN
METHOD:PUBLISH
X-WR-CALNAME:Architektur: Sehen lernen!
X-ORIGINAL-URL:https://www.architektur-sehenlernen.de
X-WR-CALDESC:Veranstaltungen für Architektur: Sehen lernen!
REFRESH-INTERVAL;VALUE=DURATION:PT1H
X-Robots-Tag:noindex
X-PUBLISHED-TTL:PT1H
BEGIN:VTIMEZONE
TZID:Europe/Berlin
BEGIN:DAYLIGHT
TZOFFSETFROM:+0100
TZOFFSETTO:+0200
TZNAME:CEST
DTSTART:20240331T010000
END:DAYLIGHT
BEGIN:STANDARD
TZOFFSETFROM:+0200
TZOFFSETTO:+0100
TZNAME:CET
DTSTART:20241027T010000
END:STANDARD
BEGIN:DAYLIGHT
TZOFFSETFROM:+0100
TZOFFSETTO:+0200
TZNAME:CEST
DTSTART:20250330T010000
END:DAYLIGHT
BEGIN:STANDARD
TZOFFSETFROM:+0200
TZOFFSETTO:+0100
TZNAME:CET
DTSTART:20251026T010000
END:STANDARD
BEGIN:DAYLIGHT
TZOFFSETFROM:+0100
TZOFFSETTO:+0200
TZNAME:CEST
DTSTART:20260329T010000
END:DAYLIGHT
BEGIN:STANDARD
TZOFFSETFROM:+0200
TZOFFSETTO:+0100
TZNAME:CET
DTSTART:20261025T010000
END:STANDARD
END:VTIMEZONE
BEGIN:VEVENT
DTSTART;TZID=Europe/Berlin:20251201T180000
DTEND;TZID=Europe/Berlin:20251201T193000
DTSTAMP:20260421T005940
CREATED:20250910T203437Z
LAST-MODIFIED:20250910T203437Z
UID:1174-1764612000-1764617400@www.architektur-sehenlernen.de
SUMMARY:Aktuelle Architektur in Berlin
DESCRIPTION:Berlin hat in letzter Zeit prägende architektonische Veränderungen erfahren. Dazu gehören das großzügige Regierungsviertel\, die Neubebauung des Potsdamer Platzes und der Friedrichstraße sowie das neue Jüdische Museum und der Umbau der Museumsinsel. Die Wiederauferstehung des Stadtschlosses als Humboldtforum und Bauten namhafter Architekten wie David Chipperfield oder Max Dudler verändern aktuell das Gesicht der Stadt. Die Referentin leitet die Studienreise „Berlin mit Bernau – Auf den Spuren der architektonischen Moderne“ (10.06. bis 14.06.2026\, V185160). \n  \nGebühr: 9\,00 €
URL:https://www.architektur-sehenlernen.de/termine/aktuelle-architektur-in-berlin/
LOCATION:Bildungszentrum\, Einsteinstr. 28\, München
CATEGORIES:Termine,Vorträge
ORGANIZER;CN="M%C3%BCnchner Volkshochschule":MAILTO:info@mvhs.de
END:VEVENT
BEGIN:VEVENT
DTSTART;TZID=Europe/Berlin:20251203T180000
DTEND;TZID=Europe/Berlin:20251203T193000
DTSTAMP:20260421T005940
CREATED:20250910T203549Z
LAST-MODIFIED:20250910T203549Z
UID:1176-1764784800-1764790200@www.architektur-sehenlernen.de
SUMMARY:Das Bauhaus: Wege nach Utopia
DESCRIPTION:Das Bauhaus war eine Ideenschmiede für Architektur und Design. Hier wurde den gesellschaftlichen Herausforderungen des frühen 20. Jahrhunderts mit unkonventionellen Ansätzen begegnet. Was lässt sich davon heute in unseren herausfordernden Zeiten ableiten? Wie können wir Architektur sehen lernen und heute neu denken? Dr. Kaija Voss ist Architekturhistorikerin. Mit einem 1924 von Alma Buscher-Siedhoff entwickelten Holzbaukasten veranschaulicht sie die wegweisenden Bauhausideen. Die Referentin leitet die Studienreise „Berlin und Bernau -– Wegweisende Architekturprojekte“ (10.06. bis 14.06. 2026\, V185160)
URL:https://www.architektur-sehenlernen.de/termine/das-bauhaus-wege-nach-utopia/
LOCATION:Bildungszentrum\, Einsteinstr. 28\, München
CATEGORIES:Termine,Vorträge
ORGANIZER;CN="M%C3%BCnchner Volkshochschule":MAILTO:info@mvhs.de
END:VEVENT
BEGIN:VEVENT
DTSTART;TZID=Europe/Berlin:20251210T180000
DTEND;TZID=Europe/Berlin:20251210T193000
DTSTAMP:20260421T005940
CREATED:20250910T203723Z
LAST-MODIFIED:20250910T203723Z
UID:1178-1765389600-1765395000@www.architektur-sehenlernen.de
SUMMARY:Häuser der Zukunft: Wie wollen wir leben?
DESCRIPTION:Seit die Moderne viel Kritik einstecken musste\, hat sich in der Ästhetik der Architektur viel getan: Postmoderne\, Neohistorismus\, Dekonstruktivismus und zeitgenössische Moderne wetteifern um die Gunst der Nutzer. Doch neben der Stildiskussion brennt die Frage: Wie wollen wir leben? Wohnraum wird zunehmend unbezahlbar. Nachhaltigkeit\, Verdichtung und Kostenreduktion werden diskutiert. Im Vortrag vorgestellt werden aktuelle Ideen: vom „Verbietet das Bauen“ (Daniel Fuhrhop) über Ideen wie „Tiny Houses“ bis zur Forderung nach einer Umbauordnung. \nGebühr: 9\,00 €
URL:https://www.architektur-sehenlernen.de/termine/haeuser-der-zukunft-wie-wollen-wir-leben/
LOCATION:Bildungszentrum\, Einsteinstr. 28\, München
CATEGORIES:Termine,Vorträge
ORGANIZER;CN="M%C3%BCnchner Volkshochschule":MAILTO:info@mvhs.de
END:VEVENT
END:VCALENDAR