BEGIN:VCALENDAR
VERSION:2.0
PRODID:-//Architektur: Sehen lernen! - ECPv6.15.13//NONSGML v1.0//EN
CALSCALE:GREGORIAN
METHOD:PUBLISH
X-ORIGINAL-URL:https://www.architektur-sehenlernen.de
X-WR-CALDESC:Veranstaltungen für Architektur: Sehen lernen!
REFRESH-INTERVAL;VALUE=DURATION:PT1H
X-Robots-Tag:noindex
X-PUBLISHED-TTL:PT1H
BEGIN:VTIMEZONE
TZID:Europe/Berlin
BEGIN:DAYLIGHT
TZOFFSETFROM:+0100
TZOFFSETTO:+0200
TZNAME:CEST
DTSTART:20250330T010000
END:DAYLIGHT
BEGIN:STANDARD
TZOFFSETFROM:+0200
TZOFFSETTO:+0100
TZNAME:CET
DTSTART:20251026T010000
END:STANDARD
BEGIN:DAYLIGHT
TZOFFSETFROM:+0100
TZOFFSETTO:+0200
TZNAME:CEST
DTSTART:20260329T010000
END:DAYLIGHT
BEGIN:STANDARD
TZOFFSETFROM:+0200
TZOFFSETTO:+0100
TZNAME:CET
DTSTART:20261025T010000
END:STANDARD
BEGIN:DAYLIGHT
TZOFFSETFROM:+0100
TZOFFSETTO:+0200
TZNAME:CEST
DTSTART:20270328T010000
END:DAYLIGHT
BEGIN:STANDARD
TZOFFSETFROM:+0200
TZOFFSETTO:+0100
TZNAME:CET
DTSTART:20271031T010000
END:STANDARD
END:VTIMEZONE
BEGIN:VEVENT
DTSTART;TZID=Europe/Berlin:20260120T193000
DTEND;TZID=Europe/Berlin:20260120T210000
DTSTAMP:20260420T232114
CREATED:20250910T201201Z
LAST-MODIFIED:20250910T201817Z
UID:1150-1768937400-1768942800@www.architektur-sehenlernen.de
SUMMARY:Kirchenbauten im Wandel der Zeit
DESCRIPTION:Kirchen sind eine sehr traditionelle Bauaufgabe. Ihre Architektur hat sich vor allem ab der Mitte des 20. Jahrhunderts stark verändert. Erleben Sie eine Geschichte von Kontinuität und Veränderung des Kirchenbaus im Laufe der Jahrhunderte: Von den romanischen Basiliken über die Wandpfeilerkirchen der Renaissance und den Petersdom in Rom bis zur Wallfahrtskirche Ronchamp von Le Corbusier\, den bayerischen Kirchen der 1960/70-er Jahre von Franz Lichtblau und der Kirche Sel. Pater Rupert Mayer in Poing bei München von Andreas Meck.\nEine Anmeldung ist bis 12.00 Uhr am Veranstaltungstag möglich. Bitte überprüfen Sie auch Ihren Spam-Ordner. \n\n\n\n\nKursgebühr\n8\,00 €
URL:https://www.architektur-sehenlernen.de/termine/kirchenbauten-im-wandel-der-zeit/
CATEGORIES:Online Vorträge,Termine
ORGANIZER;CN="vhs Gr%C3%B6benzell e.V.":MAILTO:info@vhs-groebenzell.de
END:VEVENT
BEGIN:VEVENT
DTSTART;TZID=Europe/Berlin:20260122T180000
DTEND;TZID=Europe/Berlin:20260122T193000
DTSTAMP:20260420T232114
CREATED:20250910T203905Z
LAST-MODIFIED:20250910T203905Z
UID:1180-1769104800-1769110200@www.architektur-sehenlernen.de
SUMMARY:Wiener Architekten um 1900
DESCRIPTION:Die Architektur der Wiener Secession zeigt den Weg in das 20. Jahrhundert: Die Linke Wienzeile Otto Wagners überwand den Historismus\, seine Postsparkasse samt gläserner Schalterhalle führte in die Moderne. Die Wiener Werkstätte setzte wichtige Impulse\, Josef Maria Olbrich entwarf das Sezessionsgebäude und Adolf Loos schrieb über „Ornament und Verbrechen“. Genießen Sie die Wiener Architektur-Melange um 1900. Der Vortrag kann auch zur Vorbereitung der Studienreise „Wiens Aufbruch in die Moderne“ (23.03.- 26.03.2026\, V185210) besucht werden. \nGebühr: 9\,00 €
URL:https://www.architektur-sehenlernen.de/termine/wiener-architekten-um-1900/
LOCATION:MVHS in Ramersdorf\, Claudius-Keller-Str. 7\, Ramersdorf\, 81669
CATEGORIES:Termine,Vorträge
ORGANIZER;CN="M%C3%BCnchner Volkshochschule":MAILTO:info@mvhs.de
END:VEVENT
BEGIN:VEVENT
DTSTART;TZID=Europe/Berlin:20260127T190000
DTEND;TZID=Europe/Berlin:20260127T203000
DTSTAMP:20260420T232114
CREATED:20250910T201706Z
LAST-MODIFIED:20250910T201706Z
UID:1155-1769540400-1769545800@www.architektur-sehenlernen.de
SUMMARY:Spaniens Perlen – Barcelona und Valencia
DESCRIPTION:Der Vortrag zeigt die spektakulären Bauprojekte von Antoni Gaudí in Barcelona – darunter die Sagrada Familia sowie Casa Mila und Parc Güell –\, ebenso wie den Barcelona-Pavillon von Ludwig Mies van der Rohe. Im 21. Jahrhundert prägten Frank O. Gehry und Ricardo Bofille das moderne Barcelona. Der Blick nach Valencia\, zur „Stadt der Künste und der Wissenschaften“ mit den ungewöhnlichen Konstruktionen von Santiago Calatrava\, rundet die Architekturreise ab. \n  \nGebühr: 9\,00 € Einzelkarten-Preis
URL:https://www.architektur-sehenlernen.de/termine/spaniens-perlen-barcelona-und-valencia/
CATEGORIES:Online Vorträge,Termine
ORGANIZER;CN="M%C3%BCnchner Volkshochschule":MAILTO:info@mvhs.de
END:VEVENT
END:VCALENDAR