BEGIN:VCALENDAR
VERSION:2.0
PRODID:-//Architektur: Sehen lernen! - ECPv6.15.13//NONSGML v1.0//EN
CALSCALE:GREGORIAN
METHOD:PUBLISH
X-WR-CALNAME:Architektur: Sehen lernen!
X-ORIGINAL-URL:https://www.architektur-sehenlernen.de
X-WR-CALDESC:Veranstaltungen für Architektur: Sehen lernen!
REFRESH-INTERVAL;VALUE=DURATION:PT1H
X-Robots-Tag:noindex
X-PUBLISHED-TTL:PT1H
BEGIN:VTIMEZONE
TZID:Europe/Berlin
BEGIN:DAYLIGHT
TZOFFSETFROM:+0100
TZOFFSETTO:+0200
TZNAME:CEST
DTSTART:20250330T010000
END:DAYLIGHT
BEGIN:STANDARD
TZOFFSETFROM:+0200
TZOFFSETTO:+0100
TZNAME:CET
DTSTART:20251026T010000
END:STANDARD
BEGIN:DAYLIGHT
TZOFFSETFROM:+0100
TZOFFSETTO:+0200
TZNAME:CEST
DTSTART:20260329T010000
END:DAYLIGHT
BEGIN:STANDARD
TZOFFSETFROM:+0200
TZOFFSETTO:+0100
TZNAME:CET
DTSTART:20261025T010000
END:STANDARD
BEGIN:DAYLIGHT
TZOFFSETFROM:+0100
TZOFFSETTO:+0200
TZNAME:CEST
DTSTART:20270328T010000
END:DAYLIGHT
BEGIN:STANDARD
TZOFFSETFROM:+0200
TZOFFSETTO:+0100
TZNAME:CET
DTSTART:20271031T010000
END:STANDARD
END:VTIMEZONE
BEGIN:VEVENT
DTSTART;TZID=Europe/Berlin:20260914T180000
DTEND;TZID=Europe/Berlin:20260914T193000
DTSTAMP:20260421T024006
CREATED:20260205T153333Z
LAST-MODIFIED:20260205T153333Z
UID:1298-1789408800-1789414200@www.architektur-sehenlernen.de
SUMMARY:New York City - die Stadt der Träume
DESCRIPTION:New York ist eine alte Bekannte – populär durch Hollywoodfilme und Musiktitel\, durch Architekturikonen und Reflexionen der Stadt in der Kunst. Faszinierend ist vor allem Manhattan mit seinen Skyscrapern\, dem Central Park\, dem Times Square und dem Broadway. Die Freiheitsstatue und das Empire State Building wurden ebenso zum Symbol für Amerika wie das One World Trade Center. Erleben Sie viele Facetten und Bauten der Stadt\, die niemals schläft\, in einem Vortrag der Architekturhistorikerin Dr. Kaija Voss. \nGebühr: 9\,00 €
URL:https://www.architektur-sehenlernen.de/termine/new-york-city-die-stadt-der-traeume/
LOCATION:Bildungszentrum\, Einsteinstr. 28\, München
CATEGORIES:Termine,Vorträge
ORGANIZER;CN="M%C3%BCnchner Volkshochschule":MAILTO:info@mvhs.de
END:VEVENT
BEGIN:VEVENT
DTSTART;TZID=Europe/Berlin:20260917T170000
DTEND;TZID=Europe/Berlin:20260917T183000
DTSTAMP:20260421T024006
CREATED:20260205T201918Z
LAST-MODIFIED:20260205T201918Z
UID:1314-1789664400-1789669800@www.architektur-sehenlernen.de
SUMMARY:Die Ausstellungen "100 Jahre – 100 Objekte" und "Kitchen culture" in Die Neue Sammlung - The Design Museum
DESCRIPTION:Zu ihrem 100-jährigen Bestehen präsentiert die Neue Sammlung – The Design Museum 100 designhistorische Meilensteine und Alltagsgegenstände mit Wiedererkennungswert. Präsentiert werden sie in der Chronologie ihrer Aufnahme in die Sammlung. Der ungewöhnliche Blick spiegelt die Rezeption der Exponate und die Entwicklung der Sammlung. Ergänzt wird die Jubiläumsausstellung mit einem Blick in die Küche: „Kitchen culture“ zeigt acht moderne Kücheneinrichtungen\, vom Neuen Frankfurt bis zur Interbau. \nGebühr: 9\,00 €
URL:https://www.architektur-sehenlernen.de/termine/die-ausstellungen-100-jahre-100-objekte-und-kitchen-culture-in-die-neue-sammlung-the-design-museum-3/
LOCATION:Pinakothek der Moderne\, Barer Str. 40\, Maxvorstadt München
CATEGORIES:Führungen,Termine
ORGANIZER;CN="M%C3%BCnchner Volkshochschule":MAILTO:info@mvhs.de
END:VEVENT
BEGIN:VEVENT
DTSTART;TZID=Europe/Berlin:20260921T180000
DTEND;TZID=Europe/Berlin:20260921T193000
DTSTAMP:20260421T024006
CREATED:20260205T153429Z
LAST-MODIFIED:20260205T153429Z
UID:1300-1790013600-1790019000@www.architektur-sehenlernen.de
SUMMARY:Chicago – Kulturmetropole am Lake Michigan
DESCRIPTION:Das lebendige und kulturaffine Chicago ist jede Reise wert. Großartige Architektur und namhafte Architekt*innen sind das Markenzeichen der Stadt am Lake Michigan. Auf die Chicagoer Schule und die ersten Wolkenkratzer nach dem Großen Brand von 1871 folgen Bauten von Frank Lloyd Wright und Ludwig Mies van der Rohe. Vom Riverwalk mit seinen bekannten Marina-City-Türmen geht es über den Millennium Parc mit Jay-Pritzker-Pavillon von Frank O. Gehry und „The Bean“ von Anish Kapoor bis zum Art Institute of Chicago. \nGebühr: 9\,00 €
URL:https://www.architektur-sehenlernen.de/termine/chicago-kulturmetropole-am-lake-michigan/
LOCATION:Bildungszentrum\, Einsteinstr. 28\, München
CATEGORIES:Termine,Vorträge
ORGANIZER;CN="M%C3%BCnchner Volkshochschule":MAILTO:info@mvhs.de
END:VEVENT
BEGIN:VEVENT
DTSTART;TZID=Europe/Berlin:20260928T180000
DTEND;TZID=Europe/Berlin:20260928T193000
DTSTAMP:20260421T024006
CREATED:20260205T153532Z
LAST-MODIFIED:20260205T153532Z
UID:1302-1790618400-1790623800@www.architektur-sehenlernen.de
SUMMARY:Washington D.C. – eine architektonische Spurensuche zwischen Amerika und Europa
DESCRIPTION:Auf der National Mall in Washington D.C. – zwischen Kapitol und Lincoln Memorial – treffen wir auf klassizistisch geprägte Architektur und die von Versailles beeinflusste Stadtplanung des Franzosen Pierre L’Enfant. Das Weiße Haus tritt das architektonische Erbe Andrea Palladios an. Gigantischen Neoklassizismus zeigt die Washington Union Station\, die zum Vorbild für den Mailänder Hauptbahnhof wurde. Ein Ausflug an die Atlantikküste führt nach Wildwood\, wo viele Motels als Zeugnisse der Doo-Wop-Architecture der 1950er-/1960er-Jahre erhalten sind. \n  \nGebühr: 9\,00 €
URL:https://www.architektur-sehenlernen.de/termine/washington-d-c-eine-architektonische-spurensuche-zwischen-amerika-und-europa/
LOCATION:Bildungszentrum\, Einsteinstr. 28\, München
CATEGORIES:Termine,Vorträge
ORGANIZER;CN="M%C3%BCnchner Volkshochschule":MAILTO:info@mvhs.de
END:VEVENT
END:VCALENDAR