BEGIN:VCALENDAR
VERSION:2.0
PRODID:-//Architektur: Sehen lernen! - ECPv6.15.13//NONSGML v1.0//EN
CALSCALE:GREGORIAN
METHOD:PUBLISH
X-WR-CALNAME:Architektur: Sehen lernen!
X-ORIGINAL-URL:https://www.architektur-sehenlernen.de
X-WR-CALDESC:Veranstaltungen für Architektur: Sehen lernen!
REFRESH-INTERVAL;VALUE=DURATION:PT1H
X-Robots-Tag:noindex
X-PUBLISHED-TTL:PT1H
BEGIN:VTIMEZONE
TZID:Europe/Berlin
BEGIN:DAYLIGHT
TZOFFSETFROM:+0100
TZOFFSETTO:+0200
TZNAME:CEST
DTSTART:20240331T010000
END:DAYLIGHT
BEGIN:STANDARD
TZOFFSETFROM:+0200
TZOFFSETTO:+0100
TZNAME:CET
DTSTART:20241027T010000
END:STANDARD
BEGIN:DAYLIGHT
TZOFFSETFROM:+0100
TZOFFSETTO:+0200
TZNAME:CEST
DTSTART:20250330T010000
END:DAYLIGHT
BEGIN:STANDARD
TZOFFSETFROM:+0200
TZOFFSETTO:+0100
TZNAME:CET
DTSTART:20251026T010000
END:STANDARD
BEGIN:DAYLIGHT
TZOFFSETFROM:+0100
TZOFFSETTO:+0200
TZNAME:CEST
DTSTART:20260329T010000
END:DAYLIGHT
BEGIN:STANDARD
TZOFFSETFROM:+0200
TZOFFSETTO:+0100
TZNAME:CET
DTSTART:20261025T010000
END:STANDARD
END:VTIMEZONE
BEGIN:VEVENT
DTSTART;TZID=Europe/Berlin:20251120T190000
DTEND;TZID=Europe/Berlin:20251120T203000
DTSTAMP:20260421T060139
CREATED:20250910T200718Z
LAST-MODIFIED:20250910T201334Z
UID:1146-1763665200-1763670600@www.architektur-sehenlernen.de
SUMMARY:Vier Elemente: Feuer - Architektur der Nacht
DESCRIPTION:Innerhalb der „Vier Elemente in der Architektur“ wird das Feuer von der „Architektur der Nacht“ symbolisiert. Dieser Begriff des Architekten Raymond Hood aus den 1930er Jahren bezeichnet die nächtliche Erscheinung von Baukunst. Der erste Vortrag dieser Online-Reihe blickt auf Möglichkeiten\, Bauwerke durch Licht spektakulär wirken zu lassen: vom Feuerwerk in Renaissance und Barock\, zu Illuminationen unter König Ludwig II.\, von amerikanischer Wolkenkratzerbeleuchtung über moderne Lichtkonzepte am Bauhaus bis hin zu zeitgenössischer Videokunst. \n  \nGebühr: 9\,00 € \n  \n 
URL:https://www.architektur-sehenlernen.de/termine/vier-elemente-feuer-architektur-der-nacht/
CATEGORIES:Online Vorträge,Termine
ORGANIZER;CN="M%C3%BCnchner Volkshochschule":MAILTO:info@mvhs.de
END:VEVENT
END:VCALENDAR